BEGIN:VCALENDAR
VERSION:2.0
PRODID:-//First 5 Lambeth - ECPv6.15.11//NONSGML v1.0//EN
CALSCALE:GREGORIAN
METHOD:PUBLISH
X-ORIGINAL-URL:https://first5lambeth.org
X-WR-CALDESC:Events for First 5 Lambeth
REFRESH-INTERVAL;VALUE=DURATION:PT1H
X-Robots-Tag:noindex
X-PUBLISHED-TTL:PT1H
BEGIN:VTIMEZONE
TZID:Europe/London
BEGIN:DAYLIGHT
TZOFFSETFROM:+0000
TZOFFSETTO:+0100
TZNAME:BST
DTSTART:20260329T010000
END:DAYLIGHT
BEGIN:STANDARD
TZOFFSETFROM:+0100
TZOFFSETTO:+0000
TZNAME:GMT
DTSTART:20261025T010000
END:STANDARD
BEGIN:DAYLIGHT
TZOFFSETFROM:+0000
TZOFFSETTO:+0100
TZNAME:BST
DTSTART:20270328T010000
END:DAYLIGHT
BEGIN:STANDARD
TZOFFSETFROM:+0100
TZOFFSETTO:+0000
TZNAME:GMT
DTSTART:20271031T010000
END:STANDARD
BEGIN:DAYLIGHT
TZOFFSETFROM:+0000
TZOFFSETTO:+0100
TZNAME:BST
DTSTART:20280326T010000
END:DAYLIGHT
BEGIN:STANDARD
TZOFFSETFROM:+0100
TZOFFSETTO:+0000
TZNAME:GMT
DTSTART:20281029T010000
END:STANDARD
BEGIN:DAYLIGHT
TZOFFSETFROM:+0000
TZOFFSETTO:+0100
TZNAME:BST
DTSTART:20290325T010000
END:DAYLIGHT
BEGIN:STANDARD
TZOFFSETFROM:+0100
TZOFFSETTO:+0000
TZNAME:GMT
DTSTART:20291028T010000
END:STANDARD
END:VTIMEZONE
BEGIN:VEVENT
DTSTART;TZID=Europe/London:20270622T100000
DTEND;TZID=Europe/London:20270622T130000
DTSTAMP:20260426T043954
CREATED:20240411T122632Z
LAST-MODIFIED:20260313T155827Z
UID:10002058-1813658400-1813669200@first5lambeth.org
SUMMARY:Myatt’s Field Pantry
DESCRIPTION:A pantry is a community shop offering members a weekly choice of healthy food. Each visit you pay just £2.50 or £5 and choose the items you want. Food offered is a mix of fresh fruit and veg along with other food and cupboard staples. \nNo need to book\, just drop in on the day.
URL:https://first5lambeth.org/event/myatts-field-pantry/2027-06-22/
LOCATION:Myatt’s Field Centre\, 24 Crawshay Road\, SW9 6FZ
END:VEVENT
BEGIN:VEVENT
DTSTART;TZID=Europe/London:20270629T100000
DTEND;TZID=Europe/London:20270629T130000
DTSTAMP:20260426T043954
CREATED:20240411T122632Z
LAST-MODIFIED:20260313T155827Z
UID:10002059-1814263200-1814274000@first5lambeth.org
SUMMARY:Myatt’s Field Pantry
DESCRIPTION:A pantry is a community shop offering members a weekly choice of healthy food. Each visit you pay just £2.50 or £5 and choose the items you want. Food offered is a mix of fresh fruit and veg along with other food and cupboard staples. \nNo need to book\, just drop in on the day.
URL:https://first5lambeth.org/event/myatts-field-pantry/2027-06-29/
LOCATION:Myatt’s Field Centre\, 24 Crawshay Road\, SW9 6FZ
END:VEVENT
BEGIN:VEVENT
DTSTART;TZID=Europe/London:20270706T100000
DTEND;TZID=Europe/London:20270706T130000
DTSTAMP:20260426T043954
CREATED:20240411T122632Z
LAST-MODIFIED:20260313T155827Z
UID:10002060-1814868000-1814878800@first5lambeth.org
SUMMARY:Myatt’s Field Pantry
DESCRIPTION:A pantry is a community shop offering members a weekly choice of healthy food. Each visit you pay just £2.50 or £5 and choose the items you want. Food offered is a mix of fresh fruit and veg along with other food and cupboard staples. \nNo need to book\, just drop in on the day.
URL:https://first5lambeth.org/event/myatts-field-pantry/2027-07-06/
LOCATION:Myatt’s Field Centre\, 24 Crawshay Road\, SW9 6FZ
END:VEVENT
BEGIN:VEVENT
DTSTART;TZID=Europe/London:20270713T100000
DTEND;TZID=Europe/London:20270713T130000
DTSTAMP:20260426T043954
CREATED:20240411T122632Z
LAST-MODIFIED:20260313T155827Z
UID:10002061-1815472800-1815483600@first5lambeth.org
SUMMARY:Myatt’s Field Pantry
DESCRIPTION:A pantry is a community shop offering members a weekly choice of healthy food. Each visit you pay just £2.50 or £5 and choose the items you want. Food offered is a mix of fresh fruit and veg along with other food and cupboard staples. \nNo need to book\, just drop in on the day.
URL:https://first5lambeth.org/event/myatts-field-pantry/2027-07-13/
LOCATION:Myatt’s Field Centre\, 24 Crawshay Road\, SW9 6FZ
END:VEVENT
BEGIN:VEVENT
DTSTART;TZID=Europe/London:20270720T100000
DTEND;TZID=Europe/London:20270720T130000
DTSTAMP:20260426T043954
CREATED:20240411T122632Z
LAST-MODIFIED:20260313T155827Z
UID:10002062-1816077600-1816088400@first5lambeth.org
SUMMARY:Myatt’s Field Pantry
DESCRIPTION:A pantry is a community shop offering members a weekly choice of healthy food. Each visit you pay just £2.50 or £5 and choose the items you want. Food offered is a mix of fresh fruit and veg along with other food and cupboard staples. \nNo need to book\, just drop in on the day.
URL:https://first5lambeth.org/event/myatts-field-pantry/2027-07-20/
LOCATION:Myatt’s Field Centre\, 24 Crawshay Road\, SW9 6FZ
END:VEVENT
BEGIN:VEVENT
DTSTART;TZID=Europe/London:20270727T100000
DTEND;TZID=Europe/London:20270727T130000
DTSTAMP:20260426T043954
CREATED:20240411T122632Z
LAST-MODIFIED:20260313T155827Z
UID:10002063-1816682400-1816693200@first5lambeth.org
SUMMARY:Myatt’s Field Pantry
DESCRIPTION:A pantry is a community shop offering members a weekly choice of healthy food. Each visit you pay just £2.50 or £5 and choose the items you want. Food offered is a mix of fresh fruit and veg along with other food and cupboard staples. \nNo need to book\, just drop in on the day.
URL:https://first5lambeth.org/event/myatts-field-pantry/2027-07-27/
LOCATION:Myatt’s Field Centre\, 24 Crawshay Road\, SW9 6FZ
END:VEVENT
BEGIN:VEVENT
DTSTART;TZID=Europe/London:20270803T100000
DTEND;TZID=Europe/London:20270803T130000
DTSTAMP:20260426T043954
CREATED:20240411T122632Z
LAST-MODIFIED:20260313T155827Z
UID:10002064-1817287200-1817298000@first5lambeth.org
SUMMARY:Myatt’s Field Pantry
DESCRIPTION:A pantry is a community shop offering members a weekly choice of healthy food. Each visit you pay just £2.50 or £5 and choose the items you want. Food offered is a mix of fresh fruit and veg along with other food and cupboard staples. \nNo need to book\, just drop in on the day.
URL:https://first5lambeth.org/event/myatts-field-pantry/2027-08-03/
LOCATION:Myatt’s Field Centre\, 24 Crawshay Road\, SW9 6FZ
END:VEVENT
BEGIN:VEVENT
DTSTART;TZID=Europe/London:20270810T100000
DTEND;TZID=Europe/London:20270810T130000
DTSTAMP:20260426T043954
CREATED:20240411T122632Z
LAST-MODIFIED:20260313T155827Z
UID:10002065-1817892000-1817902800@first5lambeth.org
SUMMARY:Myatt’s Field Pantry
DESCRIPTION:A pantry is a community shop offering members a weekly choice of healthy food. Each visit you pay just £2.50 or £5 and choose the items you want. Food offered is a mix of fresh fruit and veg along with other food and cupboard staples. \nNo need to book\, just drop in on the day.
URL:https://first5lambeth.org/event/myatts-field-pantry/2027-08-10/
LOCATION:Myatt’s Field Centre\, 24 Crawshay Road\, SW9 6FZ
END:VEVENT
BEGIN:VEVENT
DTSTART;TZID=Europe/London:20270817T100000
DTEND;TZID=Europe/London:20270817T130000
DTSTAMP:20260426T043954
CREATED:20240411T122632Z
LAST-MODIFIED:20260313T155827Z
UID:10002066-1818496800-1818507600@first5lambeth.org
SUMMARY:Myatt’s Field Pantry
DESCRIPTION:A pantry is a community shop offering members a weekly choice of healthy food. Each visit you pay just £2.50 or £5 and choose the items you want. Food offered is a mix of fresh fruit and veg along with other food and cupboard staples. \nNo need to book\, just drop in on the day.
URL:https://first5lambeth.org/event/myatts-field-pantry/2027-08-17/
LOCATION:Myatt’s Field Centre\, 24 Crawshay Road\, SW9 6FZ
END:VEVENT
BEGIN:VEVENT
DTSTART;TZID=Europe/London:20270824T100000
DTEND;TZID=Europe/London:20270824T130000
DTSTAMP:20260426T043954
CREATED:20240411T122632Z
LAST-MODIFIED:20260313T155827Z
UID:10002067-1819101600-1819112400@first5lambeth.org
SUMMARY:Myatt’s Field Pantry
DESCRIPTION:A pantry is a community shop offering members a weekly choice of healthy food. Each visit you pay just £2.50 or £5 and choose the items you want. Food offered is a mix of fresh fruit and veg along with other food and cupboard staples. \nNo need to book\, just drop in on the day.
URL:https://first5lambeth.org/event/myatts-field-pantry/2027-08-24/
LOCATION:Myatt’s Field Centre\, 24 Crawshay Road\, SW9 6FZ
END:VEVENT
BEGIN:VEVENT
DTSTART;TZID=Europe/London:20270831T100000
DTEND;TZID=Europe/London:20270831T130000
DTSTAMP:20260426T043954
CREATED:20240411T122632Z
LAST-MODIFIED:20260313T155827Z
UID:10002068-1819706400-1819717200@first5lambeth.org
SUMMARY:Myatt’s Field Pantry
DESCRIPTION:A pantry is a community shop offering members a weekly choice of healthy food. Each visit you pay just £2.50 or £5 and choose the items you want. Food offered is a mix of fresh fruit and veg along with other food and cupboard staples. \nNo need to book\, just drop in on the day.
URL:https://first5lambeth.org/event/myatts-field-pantry/2027-08-31/
LOCATION:Myatt’s Field Centre\, 24 Crawshay Road\, SW9 6FZ
END:VEVENT
BEGIN:VEVENT
DTSTART;TZID=Europe/London:20270907T100000
DTEND;TZID=Europe/London:20270907T130000
DTSTAMP:20260426T043954
CREATED:20240411T122632Z
LAST-MODIFIED:20260313T155827Z
UID:10002069-1820311200-1820322000@first5lambeth.org
SUMMARY:Myatt’s Field Pantry
DESCRIPTION:A pantry is a community shop offering members a weekly choice of healthy food. Each visit you pay just £2.50 or £5 and choose the items you want. Food offered is a mix of fresh fruit and veg along with other food and cupboard staples. \nNo need to book\, just drop in on the day.
URL:https://first5lambeth.org/event/myatts-field-pantry/2027-09-07/
LOCATION:Myatt’s Field Centre\, 24 Crawshay Road\, SW9 6FZ
END:VEVENT
BEGIN:VEVENT
DTSTART;TZID=Europe/London:20270914T100000
DTEND;TZID=Europe/London:20270914T130000
DTSTAMP:20260426T043954
CREATED:20240411T122632Z
LAST-MODIFIED:20260313T155827Z
UID:10002070-1820916000-1820926800@first5lambeth.org
SUMMARY:Myatt’s Field Pantry
DESCRIPTION:A pantry is a community shop offering members a weekly choice of healthy food. Each visit you pay just £2.50 or £5 and choose the items you want. Food offered is a mix of fresh fruit and veg along with other food and cupboard staples. \nNo need to book\, just drop in on the day.
URL:https://first5lambeth.org/event/myatts-field-pantry/2027-09-14/
LOCATION:Myatt’s Field Centre\, 24 Crawshay Road\, SW9 6FZ
END:VEVENT
BEGIN:VEVENT
DTSTART;TZID=Europe/London:20270921T100000
DTEND;TZID=Europe/London:20270921T130000
DTSTAMP:20260426T043954
CREATED:20240411T122632Z
LAST-MODIFIED:20260313T155827Z
UID:10002071-1821520800-1821531600@first5lambeth.org
SUMMARY:Myatt’s Field Pantry
DESCRIPTION:A pantry is a community shop offering members a weekly choice of healthy food. Each visit you pay just £2.50 or £5 and choose the items you want. Food offered is a mix of fresh fruit and veg along with other food and cupboard staples. \nNo need to book\, just drop in on the day.
URL:https://first5lambeth.org/event/myatts-field-pantry/2027-09-21/
LOCATION:Myatt’s Field Centre\, 24 Crawshay Road\, SW9 6FZ
END:VEVENT
BEGIN:VEVENT
DTSTART;TZID=Europe/London:20270928T100000
DTEND;TZID=Europe/London:20270928T130000
DTSTAMP:20260426T043954
CREATED:20240411T122632Z
LAST-MODIFIED:20260313T155827Z
UID:10002072-1822125600-1822136400@first5lambeth.org
SUMMARY:Myatt’s Field Pantry
DESCRIPTION:A pantry is a community shop offering members a weekly choice of healthy food. Each visit you pay just £2.50 or £5 and choose the items you want. Food offered is a mix of fresh fruit and veg along with other food and cupboard staples. \nNo need to book\, just drop in on the day.
URL:https://first5lambeth.org/event/myatts-field-pantry/2027-09-28/
LOCATION:Myatt’s Field Centre\, 24 Crawshay Road\, SW9 6FZ
END:VEVENT
BEGIN:VEVENT
DTSTART;TZID=Europe/London:20271005T100000
DTEND;TZID=Europe/London:20271005T130000
DTSTAMP:20260426T043954
CREATED:20240411T122632Z
LAST-MODIFIED:20260313T155827Z
UID:10002073-1822730400-1822741200@first5lambeth.org
SUMMARY:Myatt’s Field Pantry
DESCRIPTION:A pantry is a community shop offering members a weekly choice of healthy food. Each visit you pay just £2.50 or £5 and choose the items you want. Food offered is a mix of fresh fruit and veg along with other food and cupboard staples. \nNo need to book\, just drop in on the day.
URL:https://first5lambeth.org/event/myatts-field-pantry/2027-10-05/
LOCATION:Myatt’s Field Centre\, 24 Crawshay Road\, SW9 6FZ
END:VEVENT
BEGIN:VEVENT
DTSTART;TZID=Europe/London:20271012T100000
DTEND;TZID=Europe/London:20271012T130000
DTSTAMP:20260426T043954
CREATED:20240411T122632Z
LAST-MODIFIED:20260313T155827Z
UID:10002074-1823335200-1823346000@first5lambeth.org
SUMMARY:Myatt’s Field Pantry
DESCRIPTION:A pantry is a community shop offering members a weekly choice of healthy food. Each visit you pay just £2.50 or £5 and choose the items you want. Food offered is a mix of fresh fruit and veg along with other food and cupboard staples. \nNo need to book\, just drop in on the day.
URL:https://first5lambeth.org/event/myatts-field-pantry/2027-10-12/
LOCATION:Myatt’s Field Centre\, 24 Crawshay Road\, SW9 6FZ
END:VEVENT
BEGIN:VEVENT
DTSTART;TZID=Europe/London:20271019T100000
DTEND;TZID=Europe/London:20271019T130000
DTSTAMP:20260426T043954
CREATED:20240411T122632Z
LAST-MODIFIED:20260313T155827Z
UID:10002075-1823940000-1823950800@first5lambeth.org
SUMMARY:Myatt’s Field Pantry
DESCRIPTION:A pantry is a community shop offering members a weekly choice of healthy food. Each visit you pay just £2.50 or £5 and choose the items you want. Food offered is a mix of fresh fruit and veg along with other food and cupboard staples. \nNo need to book\, just drop in on the day.
URL:https://first5lambeth.org/event/myatts-field-pantry/2027-10-19/
LOCATION:Myatt’s Field Centre\, 24 Crawshay Road\, SW9 6FZ
END:VEVENT
BEGIN:VEVENT
DTSTART;TZID=Europe/London:20271026T100000
DTEND;TZID=Europe/London:20271026T130000
DTSTAMP:20260426T043954
CREATED:20240411T122632Z
LAST-MODIFIED:20260313T155827Z
UID:10002076-1824544800-1824555600@first5lambeth.org
SUMMARY:Myatt’s Field Pantry
DESCRIPTION:A pantry is a community shop offering members a weekly choice of healthy food. Each visit you pay just £2.50 or £5 and choose the items you want. Food offered is a mix of fresh fruit and veg along with other food and cupboard staples. \nNo need to book\, just drop in on the day.
URL:https://first5lambeth.org/event/myatts-field-pantry/2027-10-26/
LOCATION:Myatt’s Field Centre\, 24 Crawshay Road\, SW9 6FZ
END:VEVENT
BEGIN:VEVENT
DTSTART;TZID=Europe/London:20271102T100000
DTEND;TZID=Europe/London:20271102T130000
DTSTAMP:20260426T043954
CREATED:20240411T122632Z
LAST-MODIFIED:20260313T155827Z
UID:10002077-1825149600-1825160400@first5lambeth.org
SUMMARY:Myatt’s Field Pantry
DESCRIPTION:A pantry is a community shop offering members a weekly choice of healthy food. Each visit you pay just £2.50 or £5 and choose the items you want. Food offered is a mix of fresh fruit and veg along with other food and cupboard staples. \nNo need to book\, just drop in on the day.
URL:https://first5lambeth.org/event/myatts-field-pantry/2027-11-02/
LOCATION:Myatt’s Field Centre\, 24 Crawshay Road\, SW9 6FZ
END:VEVENT
BEGIN:VEVENT
DTSTART;TZID=Europe/London:20271109T100000
DTEND;TZID=Europe/London:20271109T130000
DTSTAMP:20260426T043954
CREATED:20240411T122632Z
LAST-MODIFIED:20260313T155827Z
UID:10002078-1825754400-1825765200@first5lambeth.org
SUMMARY:Myatt’s Field Pantry
DESCRIPTION:A pantry is a community shop offering members a weekly choice of healthy food. Each visit you pay just £2.50 or £5 and choose the items you want. Food offered is a mix of fresh fruit and veg along with other food and cupboard staples. \nNo need to book\, just drop in on the day.
URL:https://first5lambeth.org/event/myatts-field-pantry/2027-11-09/
LOCATION:Myatt’s Field Centre\, 24 Crawshay Road\, SW9 6FZ
END:VEVENT
BEGIN:VEVENT
DTSTART;TZID=Europe/London:20271116T100000
DTEND;TZID=Europe/London:20271116T130000
DTSTAMP:20260426T043954
CREATED:20240411T122632Z
LAST-MODIFIED:20260313T155827Z
UID:10002079-1826359200-1826370000@first5lambeth.org
SUMMARY:Myatt’s Field Pantry
DESCRIPTION:A pantry is a community shop offering members a weekly choice of healthy food. Each visit you pay just £2.50 or £5 and choose the items you want. Food offered is a mix of fresh fruit and veg along with other food and cupboard staples. \nNo need to book\, just drop in on the day.
URL:https://first5lambeth.org/event/myatts-field-pantry/2027-11-16/
LOCATION:Myatt’s Field Centre\, 24 Crawshay Road\, SW9 6FZ
END:VEVENT
BEGIN:VEVENT
DTSTART;TZID=Europe/London:20271123T100000
DTEND;TZID=Europe/London:20271123T130000
DTSTAMP:20260426T043954
CREATED:20240411T122632Z
LAST-MODIFIED:20260313T155827Z
UID:10002080-1826964000-1826974800@first5lambeth.org
SUMMARY:Myatt’s Field Pantry
DESCRIPTION:A pantry is a community shop offering members a weekly choice of healthy food. Each visit you pay just £2.50 or £5 and choose the items you want. Food offered is a mix of fresh fruit and veg along with other food and cupboard staples. \nNo need to book\, just drop in on the day.
URL:https://first5lambeth.org/event/myatts-field-pantry/2027-11-23/
LOCATION:Myatt’s Field Centre\, 24 Crawshay Road\, SW9 6FZ
END:VEVENT
BEGIN:VEVENT
DTSTART;TZID=Europe/London:20271130T100000
DTEND;TZID=Europe/London:20271130T130000
DTSTAMP:20260426T043954
CREATED:20240411T122632Z
LAST-MODIFIED:20260313T155827Z
UID:10002081-1827568800-1827579600@first5lambeth.org
SUMMARY:Myatt’s Field Pantry
DESCRIPTION:A pantry is a community shop offering members a weekly choice of healthy food. Each visit you pay just £2.50 or £5 and choose the items you want. Food offered is a mix of fresh fruit and veg along with other food and cupboard staples. \nNo need to book\, just drop in on the day.
URL:https://first5lambeth.org/event/myatts-field-pantry/2027-11-30/
LOCATION:Myatt’s Field Centre\, 24 Crawshay Road\, SW9 6FZ
END:VEVENT
BEGIN:VEVENT
DTSTART;TZID=Europe/London:20271207T100000
DTEND;TZID=Europe/London:20271207T130000
DTSTAMP:20260426T043954
CREATED:20240411T122632Z
LAST-MODIFIED:20260313T155827Z
UID:10002082-1828173600-1828184400@first5lambeth.org
SUMMARY:Myatt’s Field Pantry
DESCRIPTION:A pantry is a community shop offering members a weekly choice of healthy food. Each visit you pay just £2.50 or £5 and choose the items you want. Food offered is a mix of fresh fruit and veg along with other food and cupboard staples. \nNo need to book\, just drop in on the day.
URL:https://first5lambeth.org/event/myatts-field-pantry/2027-12-07/
LOCATION:Myatt’s Field Centre\, 24 Crawshay Road\, SW9 6FZ
END:VEVENT
BEGIN:VEVENT
DTSTART;TZID=Europe/London:20271214T100000
DTEND;TZID=Europe/London:20271214T130000
DTSTAMP:20260426T043954
CREATED:20240411T122632Z
LAST-MODIFIED:20260313T155827Z
UID:10002083-1828778400-1828789200@first5lambeth.org
SUMMARY:Myatt’s Field Pantry
DESCRIPTION:A pantry is a community shop offering members a weekly choice of healthy food. Each visit you pay just £2.50 or £5 and choose the items you want. Food offered is a mix of fresh fruit and veg along with other food and cupboard staples. \nNo need to book\, just drop in on the day.
URL:https://first5lambeth.org/event/myatts-field-pantry/2027-12-14/
LOCATION:Myatt’s Field Centre\, 24 Crawshay Road\, SW9 6FZ
END:VEVENT
BEGIN:VEVENT
DTSTART;TZID=Europe/London:20271221T100000
DTEND;TZID=Europe/London:20271221T130000
DTSTAMP:20260426T043954
CREATED:20240411T122632Z
LAST-MODIFIED:20260313T155827Z
UID:10002084-1829383200-1829394000@first5lambeth.org
SUMMARY:Myatt’s Field Pantry
DESCRIPTION:A pantry is a community shop offering members a weekly choice of healthy food. Each visit you pay just £2.50 or £5 and choose the items you want. Food offered is a mix of fresh fruit and veg along with other food and cupboard staples. \nNo need to book\, just drop in on the day.
URL:https://first5lambeth.org/event/myatts-field-pantry/2027-12-21/
LOCATION:Myatt’s Field Centre\, 24 Crawshay Road\, SW9 6FZ
END:VEVENT
BEGIN:VEVENT
DTSTART;TZID=Europe/London:20271228T100000
DTEND;TZID=Europe/London:20271228T130000
DTSTAMP:20260426T043954
CREATED:20240411T122632Z
LAST-MODIFIED:20260313T155827Z
UID:10002085-1829988000-1829998800@first5lambeth.org
SUMMARY:Myatt’s Field Pantry
DESCRIPTION:A pantry is a community shop offering members a weekly choice of healthy food. Each visit you pay just £2.50 or £5 and choose the items you want. Food offered is a mix of fresh fruit and veg along with other food and cupboard staples. \nNo need to book\, just drop in on the day.
URL:https://first5lambeth.org/event/myatts-field-pantry/2027-12-28/
LOCATION:Myatt’s Field Centre\, 24 Crawshay Road\, SW9 6FZ
END:VEVENT
BEGIN:VEVENT
DTSTART;TZID=Europe/London:20280104T100000
DTEND;TZID=Europe/London:20280104T130000
DTSTAMP:20260426T043954
CREATED:20240411T122632Z
LAST-MODIFIED:20260313T155827Z
UID:10002086-1830592800-1830603600@first5lambeth.org
SUMMARY:Myatt’s Field Pantry
DESCRIPTION:A pantry is a community shop offering members a weekly choice of healthy food. Each visit you pay just £2.50 or £5 and choose the items you want. Food offered is a mix of fresh fruit and veg along with other food and cupboard staples. \nNo need to book\, just drop in on the day.
URL:https://first5lambeth.org/event/myatts-field-pantry/2028-01-04/
LOCATION:Myatt’s Field Centre\, 24 Crawshay Road\, SW9 6FZ
END:VEVENT
BEGIN:VEVENT
DTSTART;TZID=Europe/London:20280111T100000
DTEND;TZID=Europe/London:20280111T130000
DTSTAMP:20260426T043954
CREATED:20240411T122632Z
LAST-MODIFIED:20260313T155827Z
UID:10002087-1831197600-1831208400@first5lambeth.org
SUMMARY:Myatt’s Field Pantry
DESCRIPTION:A pantry is a community shop offering members a weekly choice of healthy food. Each visit you pay just £2.50 or £5 and choose the items you want. Food offered is a mix of fresh fruit and veg along with other food and cupboard staples. \nNo need to book\, just drop in on the day.
URL:https://first5lambeth.org/event/myatts-field-pantry/2028-01-11/
LOCATION:Myatt’s Field Centre\, 24 Crawshay Road\, SW9 6FZ
END:VEVENT
END:VCALENDAR