BEGIN:VCALENDAR
VERSION:2.0
PRODID:-//First 5 Lambeth - ECPv6.15.11//NONSGML v1.0//EN
CALSCALE:GREGORIAN
METHOD:PUBLISH
X-ORIGINAL-URL:https://first5lambeth.org
X-WR-CALDESC:Events for First 5 Lambeth
REFRESH-INTERVAL;VALUE=DURATION:PT1H
X-Robots-Tag:noindex
X-PUBLISHED-TTL:PT1H
BEGIN:VTIMEZONE
TZID:Europe/London
BEGIN:DAYLIGHT
TZOFFSETFROM:+0000
TZOFFSETTO:+0100
TZNAME:BST
DTSTART:20250330T010000
END:DAYLIGHT
BEGIN:STANDARD
TZOFFSETFROM:+0100
TZOFFSETTO:+0000
TZNAME:GMT
DTSTART:20251026T010000
END:STANDARD
BEGIN:DAYLIGHT
TZOFFSETFROM:+0000
TZOFFSETTO:+0100
TZNAME:BST
DTSTART:20260329T010000
END:DAYLIGHT
BEGIN:STANDARD
TZOFFSETFROM:+0100
TZOFFSETTO:+0000
TZNAME:GMT
DTSTART:20261025T010000
END:STANDARD
BEGIN:DAYLIGHT
TZOFFSETFROM:+0000
TZOFFSETTO:+0100
TZNAME:BST
DTSTART:20270328T010000
END:DAYLIGHT
BEGIN:STANDARD
TZOFFSETFROM:+0100
TZOFFSETTO:+0000
TZNAME:GMT
DTSTART:20271031T010000
END:STANDARD
END:VTIMEZONE
BEGIN:VEVENT
DTSTART;TZID=Europe/London:20260416T100000
DTEND;TZID=Europe/London:20260416T113000
DTSTAMP:20260420T235353
CREATED:20260331T105238Z
LAST-MODIFIED:20260331T105238Z
UID:10012422-1776333600-1776339000@first5lambeth.org
SUMMARY:Chattertime
DESCRIPTION:A stay and play session targeting children’s speech and language development\, with support from Early Years Practitioners and Speech and Language Therapists. \nThursdays\n10am – 11.30am \nEthelred Nursery Children’s Centre\n1 Gundulf Street\nSE11 6BG \nNo need to book\, call 0207 582 9177 (option 2) for info \n   \nPhoto credit: North Lambeth Better Start Area
URL:https://first5lambeth.org/event/chattertime/2026-04-16/
LOCATION:Ethelred Children’s Centre\, 1 Gundulf Street\, Kennington\, SE11 6BG
END:VEVENT
BEGIN:VEVENT
DTSTART;TZID=Europe/London:20260409T100000
DTEND;TZID=Europe/London:20260409T113000
DTSTAMP:20260420T235353
CREATED:20260331T105238Z
LAST-MODIFIED:20260331T105238Z
UID:10012421-1775728800-1775734200@first5lambeth.org
SUMMARY:Chattertime
DESCRIPTION:A stay and play session targeting children’s speech and language development\, with support from Early Years Practitioners and Speech and Language Therapists. \nThursdays\n10am – 11.30am \nEthelred Nursery Children’s Centre\n1 Gundulf Street\nSE11 6BG \nNo need to book\, call 0207 582 9177 (option 2) for info \n   \nPhoto credit: North Lambeth Better Start Area
URL:https://first5lambeth.org/event/chattertime/2026-04-09/
LOCATION:Ethelred Children’s Centre\, 1 Gundulf Street\, Kennington\, SE11 6BG
END:VEVENT
BEGIN:VEVENT
DTSTART;TZID=Europe/London:20260402T100000
DTEND;TZID=Europe/London:20260402T113000
DTSTAMP:20260420T235353
CREATED:20260331T105238Z
LAST-MODIFIED:20260331T105238Z
UID:10012420-1775124000-1775129400@first5lambeth.org
SUMMARY:Chattertime
DESCRIPTION:A stay and play session targeting children’s speech and language development\, with support from Early Years Practitioners and Speech and Language Therapists. \nThursdays\n10am – 11.30am \nEthelred Nursery Children’s Centre\n1 Gundulf Street\nSE11 6BG \nNo need to book\, call 0207 582 9177 (option 2) for info \n   \nPhoto credit: North Lambeth Better Start Area
URL:https://first5lambeth.org/event/chattertime/2026-04-02/
LOCATION:Ethelred Children’s Centre\, 1 Gundulf Street\, Kennington\, SE11 6BG
END:VEVENT
END:VCALENDAR