BEGIN:VCALENDAR
VERSION:2.0
PRODID:-//First 5 Lambeth - ECPv6.15.11//NONSGML v1.0//EN
CALSCALE:GREGORIAN
METHOD:PUBLISH
X-ORIGINAL-URL:https://first5lambeth.org
X-WR-CALDESC:Events for First 5 Lambeth
REFRESH-INTERVAL;VALUE=DURATION:PT1H
X-Robots-Tag:noindex
X-PUBLISHED-TTL:PT1H
BEGIN:VTIMEZONE
TZID:Europe/London
BEGIN:DAYLIGHT
TZOFFSETFROM:+0000
TZOFFSETTO:+0100
TZNAME:BST
DTSTART:20250330T010000
END:DAYLIGHT
BEGIN:STANDARD
TZOFFSETFROM:+0100
TZOFFSETTO:+0000
TZNAME:GMT
DTSTART:20251026T010000
END:STANDARD
BEGIN:DAYLIGHT
TZOFFSETFROM:+0000
TZOFFSETTO:+0100
TZNAME:BST
DTSTART:20260329T010000
END:DAYLIGHT
BEGIN:STANDARD
TZOFFSETFROM:+0100
TZOFFSETTO:+0000
TZNAME:GMT
DTSTART:20261025T010000
END:STANDARD
BEGIN:DAYLIGHT
TZOFFSETFROM:+0000
TZOFFSETTO:+0100
TZNAME:BST
DTSTART:20270328T010000
END:DAYLIGHT
BEGIN:STANDARD
TZOFFSETFROM:+0100
TZOFFSETTO:+0000
TZNAME:GMT
DTSTART:20271031T010000
END:STANDARD
END:VTIMEZONE
BEGIN:VEVENT
DTSTART;TZID=Europe/London:20260427T093000
DTEND;TZID=Europe/London:20261228T110000
DTSTAMP:20260425T212721
CREATED:20260421T140107Z
LAST-MODIFIED:20260421T140107Z
UID:10012803-1777282200-1798455600@first5lambeth.org
SUMMARY:Women’s Group: 'Me Time'
DESCRIPTION:Women’s Group: ‘Me Time’ \nMondays 9:30am–11am \nThe Grantham Practice\n275–277 Clapham Road\nStockwell\nSW9 9BH \nA relaxed\, welcoming space for local women to connect\, unwind and get creative.\nLight refreshments & friendly vibes\nAre you a mum with a baby and struggle to find free time for creativity and connection? You’re welcome to bring your baby.\nLed by Khadijay \n 
URL:https://first5lambeth.org/event/womens-group-me-time/
END:VEVENT
BEGIN:VEVENT
DTSTART;TZID=Europe/London:20260429T113000
DTEND;TZID=Europe/London:20260429T123000
DTSTAMP:20260425T212721
CREATED:20260421T134241Z
LAST-MODIFIED:20260421T134241Z
UID:10012802-1777462200-1777465800@first5lambeth.org
SUMMARY:Women & Girls Cricket
DESCRIPTION:A fun\, friendly session to get active\, build confidence and try some cricketAll abilities welcome – just come along! \n  \nWednesdays 22nd & 29th April11:30am – 12:30pmThe Old Laundry\n20 Eastcote St\nStockwell\nSW9 9BY \n 
URL:https://first5lambeth.org/event/women-girls-cricket-2/
END:VEVENT
END:VCALENDAR