BEGIN:VCALENDAR
VERSION:2.0
PRODID:-//First 5 Lambeth - ECPv6.15.11//NONSGML v1.0//EN
CALSCALE:GREGORIAN
METHOD:PUBLISH
X-ORIGINAL-URL:https://first5lambeth.org
X-WR-CALDESC:Events for First 5 Lambeth
REFRESH-INTERVAL;VALUE=DURATION:PT1H
X-Robots-Tag:noindex
X-PUBLISHED-TTL:PT1H
BEGIN:VTIMEZONE
TZID:Europe/London
BEGIN:DAYLIGHT
TZOFFSETFROM:+0000
TZOFFSETTO:+0100
TZNAME:BST
DTSTART:20250330T010000
END:DAYLIGHT
BEGIN:STANDARD
TZOFFSETFROM:+0100
TZOFFSETTO:+0000
TZNAME:GMT
DTSTART:20251026T010000
END:STANDARD
BEGIN:DAYLIGHT
TZOFFSETFROM:+0000
TZOFFSETTO:+0100
TZNAME:BST
DTSTART:20260329T010000
END:DAYLIGHT
BEGIN:STANDARD
TZOFFSETFROM:+0100
TZOFFSETTO:+0000
TZNAME:GMT
DTSTART:20261025T010000
END:STANDARD
BEGIN:DAYLIGHT
TZOFFSETFROM:+0000
TZOFFSETTO:+0100
TZNAME:BST
DTSTART:20270328T010000
END:DAYLIGHT
BEGIN:STANDARD
TZOFFSETFROM:+0100
TZOFFSETTO:+0000
TZNAME:GMT
DTSTART:20271031T010000
END:STANDARD
END:VTIMEZONE
BEGIN:VEVENT
DTSTART;TZID=Europe/London:20260601T130000
DTEND;TZID=Europe/London:20260601T150000
DTSTAMP:20260426T044239
CREATED:20260330T201645Z
LAST-MODIFIED:20260330T201645Z
UID:10012418-1780318800-1780326000@first5lambeth.org
SUMMARY:Fussy Eating (Workshop)
DESCRIPTION:Is your child fussy with food and unsure how to get them to eat healthy food? Come along to the Fussy Eating workshop and get support and new ideas for:\n\n• How to encourage your child to try new foods – and begin to enjoy them!\n• Child-friendly foods that provide what they need to grow and be healthy\n• Happier family mealtimes\n\n\nMonday 1st June at 1pm to 3pm \nSt. Stephen’s Children’s Centre\nMeadow Place\nSW8 1XY \n\n\n  \nHow to book \nBook by email: gstt.hvsupportanddevelopmentworker@nhs.net \nPlease include in your email: \n\nwhich session you would like to attend\nyour name\nyour child’s name\nyour child’s date of birth\nyour postcode\nyour phone number\n\nIf you would like help with your booking\, please contact your local children’s centre in Lambeth and Southwark. They will take your contact details and pass them onto us. We’ll then contact you to book you in. \nHenry also provides other workshops for different stages of your baby’s development\, including: \n\nstarting solids\nfussy eating\nlet’s get active\nhealthy teeth\nhealthy drinks for young children\neating well for less\n\nIf you would like to book other workshops at a different venue in Lambeth and Southwark\, visit their website here. \n  \n \n 
URL:https://first5lambeth.org/event/fussy-eating-workshop-2/
LOCATION:St Stephen’s Children’s Centre\, Meadow Place\, SW8 1XY
END:VEVENT
BEGIN:VEVENT
DTSTART;TZID=Europe/London:20260602T173000
DTEND;TZID=Europe/London:20260602T183000
DTSTAMP:20260426T044239
CREATED:20260324T110449Z
LAST-MODIFIED:20260324T110449Z
UID:10011889-1780421400-1780425000@first5lambeth.org
SUMMARY:Think BiG: Mental Health and Wellbeing Workshop
DESCRIPTION:Think BiG: Mental Health and Wellbeing Workshop (Various dates) \nWhether you’re working with children or wanting to support your own children and young family members\, this workshop will provide skills to support children with their mental health and wellbeing\, such as preventing and managing anxiety\, low mood\, loneliness and much more. \nDates:\nTuesdays at 5.30pm – 6.30pm on\n21st\, 28th April\n5th\, 12th and 19th May\n2nd\, 9th\, 30th June\n7th\, 21st July \nVenue:\n3 Space\, International House\nBrixton\, SW9 7QD \nFor more info\, email: info@bigcic.org\nBiG’s website: https://www.bigcic.org/\nBiG’s Instagram: @think_b.i.g \nIn collaboration with the NHS Child and Adolescent Mental Health Services (CAMHS) and funded by Go!London Fund. \n 
URL:https://first5lambeth.org/event/think-big-mental-health-and-wellbeing-workshop/2026-06-02/
LOCATION:International House\, 3 Space\, International House\, Brixton\, SW9 7QD
ORGANIZER;CN="BiG":MAILTO:info@bigcic.org
END:VEVENT
BEGIN:VEVENT
DTSTART;TZID=Europe/London:20260603T093000
DTEND;TZID=Europe/London:20260603T120000
DTSTAMP:20260426T044239
CREATED:20260324T202224Z
LAST-MODIFIED:20260324T202224Z
UID:10011904-1780479000-1780488000@first5lambeth.org
SUMMARY:1-2-1 Better Start Employment and Training support
DESCRIPTION:Join Hubert for tailored 1-2-1 support to access employment and training opportunities.\nChildren welcome. \nWednesdays 9:30am – 12pm\nEthelred Children’s Centre\n1 Gundulf Street\, Kennington SE11 6BG \n• Identify your skills and experience\n• Apply for jobs\n• Create or update your CV\n• Support with the interview process \nCall to book: 0207 582 9711 (option 2) \n 
URL:https://first5lambeth.org/event/1-2-1-better-start-employment-and-training-support/2026-06-03/
END:VEVENT
BEGIN:VEVENT
DTSTART;TZID=Europe/London:20260603T140000
DTEND;TZID=Europe/London:20260603T150000
DTSTAMP:20260426T044239
CREATED:20260417T165554Z
LAST-MODIFIED:20260417T171040Z
UID:10012687-1780495200-1780498800@first5lambeth.org
SUMMARY:Young at Heart (Wednesday sessions)
DESCRIPTION:Intergenerational activities of songs\, rhymes and stories \nThese sessions will help bring generations together. Families with babies can join residents in care homes to sing\, explore sensory materials\, use puppets and props\, enjoy musical instruments and movement. \nLight refreshments are provided. \nThese sessions will:\n• Increase wellbeing & joy\n• Reduce loneliness & isolation\n• Build meaningful intergenerational relationships \n  \nSessions will be held at two different venues: \nWindmill Care Home\n115 Lyham Road\, Brixton Hill  SW2 5PY \n11am – 12pm Tuesdays (fortnightly)\n28th April\n12th May\n26th May\n9th June\n23rd June \n  \nSanctuary Supported Living\nHillyard House\, 2 Hillyard Street\, Brixton SW9 0NH \n2pm – 3pm Wednesdays (weekly)\n29th April\n6th May\n13th May\n20th May\n27th May \n  \nEnquire or register your interest\nContact Unity Matters 07508 074 921\nunitymatterscic@gmail.com \n 
URL:https://first5lambeth.org/event/young-at-heart/2026-06-03/
LOCATION:Sanctuary Supported Living\, Hillyard House\, 2 Hillyard Street\, Brixton\, SW9 0NH
END:VEVENT
BEGIN:VEVENT
DTSTART;TZID=Europe/London:20260609T100000
DTEND;TZID=Europe/London:20260609T120000
DTSTAMP:20260426T044239
CREATED:20260330T202239Z
LAST-MODIFIED:20260330T202239Z
UID:10012419-1780999200-1781006400@first5lambeth.org
SUMMARY:Starting Solids (Workshop)
DESCRIPTION:Thinking your baby is ready to try solid foods? Come to a Starting Solids workshop to help you get your\nbaby off to a great start. \nThe workshop will help you decide: \n• When your baby is ready to try solid food\n• What foods to start with\n• When your baby is hungry and when they’ve had enough\n• How to make mealtimes an enjoyable experience \n  \nTuesday 9th June\n10am to 12pm \nSt. Stephen’s Children’s Centre\nMeadow Place SW8 1XY \nHow to book \nBook by email: gstt.hvsupportanddevelopmentworker@nhs.net \nPlease include in your email: \n\nwhich session you would like to attend\nyour name\nyour child’s name\nyour child’s date of birth\nyour postcode\nyour phone number\n\nIf you would like help with your booking\, please contact your local children’s centre in Lambeth and Southwark. They will take your contact details and pass them onto us. We’ll then contact you to book you in. \nHenry also provides other workshops for different stages of your baby’s development\, including: \n\nstarting solids\nfussy eating\nlet’s get active\nhealthy teeth\nhealthy drinks for young children\neating well for less\n\nIf you would like to book other workshops at a different venue in Lambeth and Southwark\, visit their website here. \n  \n \n 
URL:https://first5lambeth.org/event/starting-solids-workshop-2/
LOCATION:St Stephen’s Children’s Centre\, Meadow Place\, SW8 1XY
END:VEVENT
BEGIN:VEVENT
DTSTART;TZID=Europe/London:20260609T110000
DTEND;TZID=Europe/London:20260609T120000
DTSTAMP:20260426T044239
CREATED:20260421T112653Z
LAST-MODIFIED:20260421T112653Z
UID:10012799-1781002800-1781006400@first5lambeth.org
SUMMARY:Young at Heart (Tuesday 9th June)
DESCRIPTION:Intergenerational activities of songs\, rhymes and stories \nThese sessions will help bring generations together. Families with babies can join residents in care homes to sing\, explore sensory materials\, use puppets and props\, enjoy musical instruments and movement. \nLight refreshments are provided. \nThese sessions will:\n• Increase wellbeing & joy\n• Reduce loneliness & isolation\n• Build meaningful intergenerational relationships \n  \nSessions will be held at two different venues: \nWindmill Care Home\n115 Lyham Road\, Brixton Hill  SW2 5PY \n11am – 12pm Tuesdays (fortnightly)\n28th April\n12th May\n26th May\n9th June\n23rd June \n  \nEnquire or register your interest\nContact Unity Matters 07508 074 921\nunitymatterscic@gmail.com \n 
URL:https://first5lambeth.org/event/young-at-heart-tuesday-9th-june/
LOCATION:Windmill Care Home\, 115 Lyham Road\, Brixton\, SW2 5PY
END:VEVENT
BEGIN:VEVENT
DTSTART;TZID=Europe/London:20260609T173000
DTEND;TZID=Europe/London:20260609T183000
DTSTAMP:20260426T044239
CREATED:20260324T110449Z
LAST-MODIFIED:20260324T110449Z
UID:10011890-1781026200-1781029800@first5lambeth.org
SUMMARY:Think BiG: Mental Health and Wellbeing Workshop
DESCRIPTION:Think BiG: Mental Health and Wellbeing Workshop (Various dates) \nWhether you’re working with children or wanting to support your own children and young family members\, this workshop will provide skills to support children with their mental health and wellbeing\, such as preventing and managing anxiety\, low mood\, loneliness and much more. \nDates:\nTuesdays at 5.30pm – 6.30pm on\n21st\, 28th April\n5th\, 12th and 19th May\n2nd\, 9th\, 30th June\n7th\, 21st July \nVenue:\n3 Space\, International House\nBrixton\, SW9 7QD \nFor more info\, email: info@bigcic.org\nBiG’s website: https://www.bigcic.org/\nBiG’s Instagram: @think_b.i.g \nIn collaboration with the NHS Child and Adolescent Mental Health Services (CAMHS) and funded by Go!London Fund. \n 
URL:https://first5lambeth.org/event/think-big-mental-health-and-wellbeing-workshop/2026-06-09/
LOCATION:International House\, 3 Space\, International House\, Brixton\, SW9 7QD
ORGANIZER;CN="BiG":MAILTO:info@bigcic.org
END:VEVENT
BEGIN:VEVENT
DTSTART;TZID=Europe/London:20260610T093000
DTEND;TZID=Europe/London:20260610T120000
DTSTAMP:20260426T044239
CREATED:20260324T202224Z
LAST-MODIFIED:20260324T202224Z
UID:10011905-1781083800-1781092800@first5lambeth.org
SUMMARY:1-2-1 Better Start Employment and Training support
DESCRIPTION:Join Hubert for tailored 1-2-1 support to access employment and training opportunities.\nChildren welcome. \nWednesdays 9:30am – 12pm\nEthelred Children’s Centre\n1 Gundulf Street\, Kennington SE11 6BG \n• Identify your skills and experience\n• Apply for jobs\n• Create or update your CV\n• Support with the interview process \nCall to book: 0207 582 9711 (option 2) \n 
URL:https://first5lambeth.org/event/1-2-1-better-start-employment-and-training-support/2026-06-10/
END:VEVENT
BEGIN:VEVENT
DTSTART;TZID=Europe/London:20260610T140000
DTEND;TZID=Europe/London:20260610T150000
DTSTAMP:20260426T044239
CREATED:20260417T165554Z
LAST-MODIFIED:20260417T171040Z
UID:10012688-1781100000-1781103600@first5lambeth.org
SUMMARY:Young at Heart (Wednesday sessions)
DESCRIPTION:Intergenerational activities of songs\, rhymes and stories \nThese sessions will help bring generations together. Families with babies can join residents in care homes to sing\, explore sensory materials\, use puppets and props\, enjoy musical instruments and movement. \nLight refreshments are provided. \nThese sessions will:\n• Increase wellbeing & joy\n• Reduce loneliness & isolation\n• Build meaningful intergenerational relationships \n  \nSessions will be held at two different venues: \nWindmill Care Home\n115 Lyham Road\, Brixton Hill  SW2 5PY \n11am – 12pm Tuesdays (fortnightly)\n28th April\n12th May\n26th May\n9th June\n23rd June \n  \nSanctuary Supported Living\nHillyard House\, 2 Hillyard Street\, Brixton SW9 0NH \n2pm – 3pm Wednesdays (weekly)\n29th April\n6th May\n13th May\n20th May\n27th May \n  \nEnquire or register your interest\nContact Unity Matters 07508 074 921\nunitymatterscic@gmail.com \n 
URL:https://first5lambeth.org/event/young-at-heart/2026-06-10/
LOCATION:Sanctuary Supported Living\, Hillyard House\, 2 Hillyard Street\, Brixton\, SW9 0NH
END:VEVENT
BEGIN:VEVENT
DTSTART;TZID=Europe/London:20260617T093000
DTEND;TZID=Europe/London:20260617T120000
DTSTAMP:20260426T044239
CREATED:20260324T202224Z
LAST-MODIFIED:20260324T202224Z
UID:10011906-1781688600-1781697600@first5lambeth.org
SUMMARY:1-2-1 Better Start Employment and Training support
DESCRIPTION:Join Hubert for tailored 1-2-1 support to access employment and training opportunities.\nChildren welcome. \nWednesdays 9:30am – 12pm\nEthelred Children’s Centre\n1 Gundulf Street\, Kennington SE11 6BG \n• Identify your skills and experience\n• Apply for jobs\n• Create or update your CV\n• Support with the interview process \nCall to book: 0207 582 9711 (option 2) \n 
URL:https://first5lambeth.org/event/1-2-1-better-start-employment-and-training-support/2026-06-17/
END:VEVENT
BEGIN:VEVENT
DTSTART;TZID=Europe/London:20260617T140000
DTEND;TZID=Europe/London:20260617T150000
DTSTAMP:20260426T044239
CREATED:20260417T165554Z
LAST-MODIFIED:20260417T171040Z
UID:10012689-1781704800-1781708400@first5lambeth.org
SUMMARY:Young at Heart (Wednesday sessions)
DESCRIPTION:Intergenerational activities of songs\, rhymes and stories \nThese sessions will help bring generations together. Families with babies can join residents in care homes to sing\, explore sensory materials\, use puppets and props\, enjoy musical instruments and movement. \nLight refreshments are provided. \nThese sessions will:\n• Increase wellbeing & joy\n• Reduce loneliness & isolation\n• Build meaningful intergenerational relationships \n  \nSessions will be held at two different venues: \nWindmill Care Home\n115 Lyham Road\, Brixton Hill  SW2 5PY \n11am – 12pm Tuesdays (fortnightly)\n28th April\n12th May\n26th May\n9th June\n23rd June \n  \nSanctuary Supported Living\nHillyard House\, 2 Hillyard Street\, Brixton SW9 0NH \n2pm – 3pm Wednesdays (weekly)\n29th April\n6th May\n13th May\n20th May\n27th May \n  \nEnquire or register your interest\nContact Unity Matters 07508 074 921\nunitymatterscic@gmail.com \n 
URL:https://first5lambeth.org/event/young-at-heart/2026-06-17/
LOCATION:Sanctuary Supported Living\, Hillyard House\, 2 Hillyard Street\, Brixton\, SW9 0NH
END:VEVENT
BEGIN:VEVENT
DTSTART;TZID=Europe/London:20260618T093000
DTEND;TZID=Europe/London:20260619T170000
DTSTAMP:20260426T044239
CREATED:20260324T173930Z
LAST-MODIFIED:20260324T193824Z
UID:10011894-1781775000-1781888400@first5lambeth.org
SUMMARY:Become a Qualified Youth Mental Health First Aider
DESCRIPTION:Become a Qualified Youth Mental Health First Aider (2 day course) \nThursday 18th and Friday 19th June 2026\n9:30am–5:00pm\nVenue: Art4Space\, 31 Jeffreys Road\, Stockwell SW4 6QU \nDo you live with\, work with\, or support young people aged 8–18?⠀\nThis 2-day Youth Mental Health First Aid (MHFA) course\, newly updated by MHFA England with the latest research and insights from young people with lived experience\, will give you the skills\, confidence\, and tools to support their mental health and wellbeing.⠀\n\nWhy train with us at Art4Space this June?⠀\nWe’re combining expert-led training with creativity and community. Over the 2 days\, you’ll also take part in 4 guided creative wellbeing activities hosted by the brilliant Art4Space team – designed to boost psychological safety\, connection\, and spark ideas to use with young people (they’re great for adults too!).⠀\n⠀\nEvery booking supports social good – profits go directly back into Art4Space’s community programmes.⠀\n\n\nAs a qualified Youth Mental Health First Aider\, you’ll gain:⠀\n\nThe ability to spot early signs of mental health challenges⠀\nConfidence to have supportive\, potentially life-saving conversations⠀\nPractical strategies and signposting skills⠀\n\n⠀\nPlus\, ongoing support when you train with It’s a Playground:⠀\n\nFREE monthly interactive wellbeing workshops⠀\nFREE bi-annual MHFA “Connect\, Reflect & Grow” skills refreshers⠀\nExclusive discounts on bespoke training & wellbeing programmes⠀\nAccess to the Association of Mental Health First Aiders® – resources\, events & continued learning⠀\n\n⠀\nQuestions or group bookings\nEmail: support@itsaplayground.org⠀\n⠀\nLet’s build a future where every young person has someone they can turn to.\n\nRegister here to secure your spot \nSpecial offer: When you register\, quote “Friend of It’s a Playground” discount to receive £25 off your course fee. \n 
URL:https://first5lambeth.org/event/become-a-youth-mental-health-first-aider/
LOCATION:Arts4space studio\, 31 Jeffreys Road\, SW4 6QU
END:VEVENT
BEGIN:VEVENT
DTSTART;TZID=Europe/London:20260623T110000
DTEND;TZID=Europe/London:20260623T120000
DTSTAMP:20260426T044239
CREATED:20260421T113008Z
LAST-MODIFIED:20260421T113008Z
UID:10012800-1782212400-1782216000@first5lambeth.org
SUMMARY:Young at Heart (Tuesday 23rd June)
DESCRIPTION:Intergenerational activities of songs\, rhymes and stories \nThese sessions will help bring generations together. Families with babies can join residents in care homes to sing\, explore sensory materials\, use puppets and props\, enjoy musical instruments and movement. \nLight refreshments are provided. \nThese sessions will:\n• Increase wellbeing & joy\n• Reduce loneliness & isolation\n• Build meaningful intergenerational relationships \n  \nSessions will be held at two different venues: \nWindmill Care Home\n115 Lyham Road\, Brixton Hill  SW2 5PY \n11am – 12pm Tuesdays (fortnightly)\n28th April\n12th May\n26th May\n9th June\n23rd June \n  \nEnquire or register your interest\nContact Unity Matters 07508 074 921\nunitymatterscic@gmail.com \n 
URL:https://first5lambeth.org/event/young-at-heart-tuesday-23rd-june/
LOCATION:Windmill Care Home\, 115 Lyham Road\, Brixton\, SW2 5PY
END:VEVENT
BEGIN:VEVENT
DTSTART;TZID=Europe/London:20260624T093000
DTEND;TZID=Europe/London:20260624T120000
DTSTAMP:20260426T044239
CREATED:20260324T202224Z
LAST-MODIFIED:20260324T202224Z
UID:10011907-1782293400-1782302400@first5lambeth.org
SUMMARY:1-2-1 Better Start Employment and Training support
DESCRIPTION:Join Hubert for tailored 1-2-1 support to access employment and training opportunities.\nChildren welcome. \nWednesdays 9:30am – 12pm\nEthelred Children’s Centre\n1 Gundulf Street\, Kennington SE11 6BG \n• Identify your skills and experience\n• Apply for jobs\n• Create or update your CV\n• Support with the interview process \nCall to book: 0207 582 9711 (option 2) \n 
URL:https://first5lambeth.org/event/1-2-1-better-start-employment-and-training-support/2026-06-24/
END:VEVENT
BEGIN:VEVENT
DTSTART;TZID=Europe/London:20260624T140000
DTEND;TZID=Europe/London:20260624T150000
DTSTAMP:20260426T044239
CREATED:20260417T165554Z
LAST-MODIFIED:20260417T171040Z
UID:10012690-1782309600-1782313200@first5lambeth.org
SUMMARY:Young at Heart (Wednesday sessions)
DESCRIPTION:Intergenerational activities of songs\, rhymes and stories \nThese sessions will help bring generations together. Families with babies can join residents in care homes to sing\, explore sensory materials\, use puppets and props\, enjoy musical instruments and movement. \nLight refreshments are provided. \nThese sessions will:\n• Increase wellbeing & joy\n• Reduce loneliness & isolation\n• Build meaningful intergenerational relationships \n  \nSessions will be held at two different venues: \nWindmill Care Home\n115 Lyham Road\, Brixton Hill  SW2 5PY \n11am – 12pm Tuesdays (fortnightly)\n28th April\n12th May\n26th May\n9th June\n23rd June \n  \nSanctuary Supported Living\nHillyard House\, 2 Hillyard Street\, Brixton SW9 0NH \n2pm – 3pm Wednesdays (weekly)\n29th April\n6th May\n13th May\n20th May\n27th May \n  \nEnquire or register your interest\nContact Unity Matters 07508 074 921\nunitymatterscic@gmail.com \n 
URL:https://first5lambeth.org/event/young-at-heart/2026-06-24/
LOCATION:Sanctuary Supported Living\, Hillyard House\, 2 Hillyard Street\, Brixton\, SW9 0NH
END:VEVENT
BEGIN:VEVENT
DTSTART;TZID=Europe/London:20260625T153000
DTEND;TZID=Europe/London:20260625T170000
DTSTAMP:20260426T044239
CREATED:20251205T094407Z
LAST-MODIFIED:20251205T120448Z
UID:10011331-1782401400-1782406800@first5lambeth.org
SUMMARY:Free After-School Art Club
DESCRIPTION:Free family art workshops.\nDrop-in on selected Thursday dates this Winter and Spring term.\nParents/Carers – stay too.\nCome when you can (max 20).\nWhen? 3.30 pm – 5 pm on \n22nd January\, 12th February\, 12th March\, 23rd April\, 21st May\, 25th June & 9th July \n\nDaisy and Natti will set up a range of art activities for you to explore\, make and take home. \n\nA supportive space to connect and create.\nNo need to book – Just drop-in.\nFree to attend!
URL:https://first5lambeth.org/event/free-after-school-art-club-5/2026-06-25/
LOCATION:Arts4space studio\, 31 Jeffreys Road\, SW4 6QU
END:VEVENT
BEGIN:VEVENT
DTSTART;TZID=Europe/London:20260630T173000
DTEND;TZID=Europe/London:20260630T183000
DTSTAMP:20260426T044239
CREATED:20260324T110449Z
LAST-MODIFIED:20260324T110449Z
UID:10011891-1782840600-1782844200@first5lambeth.org
SUMMARY:Think BiG: Mental Health and Wellbeing Workshop
DESCRIPTION:Think BiG: Mental Health and Wellbeing Workshop (Various dates) \nWhether you’re working with children or wanting to support your own children and young family members\, this workshop will provide skills to support children with their mental health and wellbeing\, such as preventing and managing anxiety\, low mood\, loneliness and much more. \nDates:\nTuesdays at 5.30pm – 6.30pm on\n21st\, 28th April\n5th\, 12th and 19th May\n2nd\, 9th\, 30th June\n7th\, 21st July \nVenue:\n3 Space\, International House\nBrixton\, SW9 7QD \nFor more info\, email: info@bigcic.org\nBiG’s website: https://www.bigcic.org/\nBiG’s Instagram: @think_b.i.g \nIn collaboration with the NHS Child and Adolescent Mental Health Services (CAMHS) and funded by Go!London Fund. \n 
URL:https://first5lambeth.org/event/think-big-mental-health-and-wellbeing-workshop/2026-06-30/
LOCATION:International House\, 3 Space\, International House\, Brixton\, SW9 7QD
ORGANIZER;CN="BiG":MAILTO:info@bigcic.org
END:VEVENT
END:VCALENDAR