BEGIN:VCALENDAR
VERSION:2.0
PRODID:-//First 5 Lambeth - ECPv6.15.11//NONSGML v1.0//EN
CALSCALE:GREGORIAN
METHOD:PUBLISH
X-ORIGINAL-URL:https://first5lambeth.org
X-WR-CALDESC:Events for First 5 Lambeth
REFRESH-INTERVAL;VALUE=DURATION:PT1H
X-Robots-Tag:noindex
X-PUBLISHED-TTL:PT1H
BEGIN:VTIMEZONE
TZID:Europe/London
BEGIN:DAYLIGHT
TZOFFSETFROM:+0000
TZOFFSETTO:+0100
TZNAME:BST
DTSTART:20250330T010000
END:DAYLIGHT
BEGIN:STANDARD
TZOFFSETFROM:+0100
TZOFFSETTO:+0000
TZNAME:GMT
DTSTART:20251026T010000
END:STANDARD
BEGIN:DAYLIGHT
TZOFFSETFROM:+0000
TZOFFSETTO:+0100
TZNAME:BST
DTSTART:20260329T010000
END:DAYLIGHT
BEGIN:STANDARD
TZOFFSETFROM:+0100
TZOFFSETTO:+0000
TZNAME:GMT
DTSTART:20261025T010000
END:STANDARD
BEGIN:DAYLIGHT
TZOFFSETFROM:+0000
TZOFFSETTO:+0100
TZNAME:BST
DTSTART:20270328T010000
END:DAYLIGHT
BEGIN:STANDARD
TZOFFSETFROM:+0100
TZOFFSETTO:+0000
TZNAME:GMT
DTSTART:20271031T010000
END:STANDARD
END:VTIMEZONE
BEGIN:VEVENT
DTSTART;TZID=Europe/London:20260505T173000
DTEND;TZID=Europe/London:20260505T183000
DTSTAMP:20260426T032009
CREATED:20260324T110449Z
LAST-MODIFIED:20260324T110449Z
UID:10011886-1778002200-1778005800@first5lambeth.org
SUMMARY:Think BiG: Mental Health and Wellbeing Workshop
DESCRIPTION:Think BiG: Mental Health and Wellbeing Workshop (Various dates) \nWhether you’re working with children or wanting to support your own children and young family members\, this workshop will provide skills to support children with their mental health and wellbeing\, such as preventing and managing anxiety\, low mood\, loneliness and much more. \nDates:\nTuesdays at 5.30pm – 6.30pm on\n21st\, 28th April\n5th\, 12th and 19th May\n2nd\, 9th\, 30th June\n7th\, 21st July \nVenue:\n3 Space\, International House\nBrixton\, SW9 7QD \nFor more info\, email: info@bigcic.org\nBiG’s website: https://www.bigcic.org/\nBiG’s Instagram: @think_b.i.g \nIn collaboration with the NHS Child and Adolescent Mental Health Services (CAMHS) and funded by Go!London Fund. \n 
URL:https://first5lambeth.org/event/think-big-mental-health-and-wellbeing-workshop/2026-05-05/
LOCATION:International House\, 3 Space\, International House\, Brixton\, SW9 7QD
ORGANIZER;CN="BiG":MAILTO:info@bigcic.org
END:VEVENT
BEGIN:VEVENT
DTSTART;TZID=Europe/London:20260506T093000
DTEND;TZID=Europe/London:20260506T120000
DTSTAMP:20260426T032009
CREATED:20260324T202224Z
LAST-MODIFIED:20260324T202224Z
UID:10011900-1778059800-1778068800@first5lambeth.org
SUMMARY:1-2-1 Better Start Employment and Training support
DESCRIPTION:Join Hubert for tailored 1-2-1 support to access employment and training opportunities.\nChildren welcome. \nWednesdays 9:30am – 12pm\nEthelred Children’s Centre\n1 Gundulf Street\, Kennington SE11 6BG \n• Identify your skills and experience\n• Apply for jobs\n• Create or update your CV\n• Support with the interview process \nCall to book: 0207 582 9711 (option 2) \n 
URL:https://first5lambeth.org/event/1-2-1-better-start-employment-and-training-support/2026-05-06/
END:VEVENT
BEGIN:VEVENT
DTSTART;TZID=Europe/London:20260506T140000
DTEND;TZID=Europe/London:20260506T150000
DTSTAMP:20260426T032009
CREATED:20260417T165554Z
LAST-MODIFIED:20260417T171040Z
UID:10012683-1778076000-1778079600@first5lambeth.org
SUMMARY:Young at Heart (Wednesday sessions)
DESCRIPTION:Intergenerational activities of songs\, rhymes and stories \nThese sessions will help bring generations together. Families with babies can join residents in care homes to sing\, explore sensory materials\, use puppets and props\, enjoy musical instruments and movement. \nLight refreshments are provided. \nThese sessions will:\n• Increase wellbeing & joy\n• Reduce loneliness & isolation\n• Build meaningful intergenerational relationships \n  \nSessions will be held at two different venues: \nWindmill Care Home\n115 Lyham Road\, Brixton Hill  SW2 5PY \n11am – 12pm Tuesdays (fortnightly)\n28th April\n12th May\n26th May\n9th June\n23rd June \n  \nSanctuary Supported Living\nHillyard House\, 2 Hillyard Street\, Brixton SW9 0NH \n2pm – 3pm Wednesdays (weekly)\n29th April\n6th May\n13th May\n20th May\n27th May \n  \nEnquire or register your interest\nContact Unity Matters 07508 074 921\nunitymatterscic@gmail.com \n 
URL:https://first5lambeth.org/event/young-at-heart/2026-05-06/
LOCATION:Sanctuary Supported Living\, Hillyard House\, 2 Hillyard Street\, Brixton\, SW9 0NH
END:VEVENT
BEGIN:VEVENT
DTSTART;TZID=Europe/London:20260511T130000
DTEND;TZID=Europe/London:20260511T150000
DTSTAMP:20260426T032009
CREATED:20260330T195408Z
LAST-MODIFIED:20260330T201324Z
UID:10012416-1778504400-1778511600@first5lambeth.org
SUMMARY:Starting Solids (Workshop)
DESCRIPTION:Thinking your baby is ready to try solid foods? Come to a Starting Solids workshop to help you get your\nbaby off to a great start. \nThe workshop will help you decide: \n• When your baby is ready to try solid food\n• What foods to start with\n• When your baby is hungry and when they’ve had enough\n• How to make mealtimes an enjoyable experience \n  \nMonday 11th May\n1pm to 3pm \nEthelred Children’s Centre\n1 Gundulf Street\nKennington SE11 6BG \n  \nHow to book \nBook by email: gstt.hvsupportanddevelopmentworker@nhs.net \nPlease include in your email: \n\nwhich session you would like to attend\nyour name\nyour child’s name\nyour child’s date of birth\nyour postcode\nyour phone number\n\nIf you would like help with your booking\, please contact your local children’s centre in Lambeth and Southwark. They will take your contact details and pass them onto us. We’ll then contact you to book you in. \nHenry also provides other workshops for different stages of your baby’s development\, including: \n\nstarting solids\nfussy eating\nlet’s get active\nhealthy teeth\nhealthy drinks for young children\neating well for less\n\nIf you would like to book other workshops at a different venue in Lambeth and Southwark\, visit their website here. \n  \n \n 
URL:https://first5lambeth.org/event/starting-solids-workshop/
LOCATION:Ethelred Children’s Centre\, 1 Gundulf Street\, Kennington\, SE11 6BG
END:VEVENT
BEGIN:VEVENT
DTSTART;TZID=Europe/London:20260512T110000
DTEND;TZID=Europe/London:20260512T120000
DTSTAMP:20260426T032009
CREATED:20260421T112407Z
LAST-MODIFIED:20260421T112407Z
UID:10012797-1778583600-1778587200@first5lambeth.org
SUMMARY:Young at Heart (Tuesday 12th May)
DESCRIPTION:Intergenerational activities of songs\, rhymes and stories \nThese sessions will help bring generations together. Families with babies can join residents in care homes to sing\, explore sensory materials\, use puppets and props\, enjoy musical instruments and movement. \nLight refreshments are provided. \nThese sessions will:\n• Increase wellbeing & joy\n• Reduce loneliness & isolation\n• Build meaningful intergenerational relationships \n  \nSessions will be held at two different venues: \nWindmill Care Home\n115 Lyham Road\, Brixton Hill  SW2 5PY \n11am – 12pm Tuesdays (fortnightly)\n28th April\n12th May\n26th May\n9th June\n23rd June \n  \nSanctuary Supported Living\nHillyard House\, 2 Hillyard Street\, Brixton SW9 0NH \n2pm – 3pm Wednesdays (weekly)\n29th April\n6th May\n13th May\n20th May\n27th May \n  \nEnquire or register your interest\nContact Unity Matters 07508 074 921\nunitymatterscic@gmail.com \n 
URL:https://first5lambeth.org/event/young-at-heart-tuesday-12th-may/
LOCATION:Windmill Care Home\, 115 Lyham Road\, Brixton\, SW2 5PY
END:VEVENT
BEGIN:VEVENT
DTSTART;TZID=Europe/London:20260512T173000
DTEND;TZID=Europe/London:20260512T183000
DTSTAMP:20260426T032009
CREATED:20260324T110449Z
LAST-MODIFIED:20260324T110449Z
UID:10011887-1778607000-1778610600@first5lambeth.org
SUMMARY:Think BiG: Mental Health and Wellbeing Workshop
DESCRIPTION:Think BiG: Mental Health and Wellbeing Workshop (Various dates) \nWhether you’re working with children or wanting to support your own children and young family members\, this workshop will provide skills to support children with their mental health and wellbeing\, such as preventing and managing anxiety\, low mood\, loneliness and much more. \nDates:\nTuesdays at 5.30pm – 6.30pm on\n21st\, 28th April\n5th\, 12th and 19th May\n2nd\, 9th\, 30th June\n7th\, 21st July \nVenue:\n3 Space\, International House\nBrixton\, SW9 7QD \nFor more info\, email: info@bigcic.org\nBiG’s website: https://www.bigcic.org/\nBiG’s Instagram: @think_b.i.g \nIn collaboration with the NHS Child and Adolescent Mental Health Services (CAMHS) and funded by Go!London Fund. \n 
URL:https://first5lambeth.org/event/think-big-mental-health-and-wellbeing-workshop/2026-05-12/
LOCATION:International House\, 3 Space\, International House\, Brixton\, SW9 7QD
ORGANIZER;CN="BiG":MAILTO:info@bigcic.org
END:VEVENT
BEGIN:VEVENT
DTSTART;TZID=Europe/London:20260513T093000
DTEND;TZID=Europe/London:20260513T120000
DTSTAMP:20260426T032009
CREATED:20260324T202224Z
LAST-MODIFIED:20260324T202224Z
UID:10011901-1778664600-1778673600@first5lambeth.org
SUMMARY:1-2-1 Better Start Employment and Training support
DESCRIPTION:Join Hubert for tailored 1-2-1 support to access employment and training opportunities.\nChildren welcome. \nWednesdays 9:30am – 12pm\nEthelred Children’s Centre\n1 Gundulf Street\, Kennington SE11 6BG \n• Identify your skills and experience\n• Apply for jobs\n• Create or update your CV\n• Support with the interview process \nCall to book: 0207 582 9711 (option 2) \n 
URL:https://first5lambeth.org/event/1-2-1-better-start-employment-and-training-support/2026-05-13/
END:VEVENT
BEGIN:VEVENT
DTSTART;TZID=Europe/London:20260513T140000
DTEND;TZID=Europe/London:20260513T150000
DTSTAMP:20260426T032009
CREATED:20260417T165554Z
LAST-MODIFIED:20260417T171040Z
UID:10012684-1778680800-1778684400@first5lambeth.org
SUMMARY:Young at Heart (Wednesday sessions)
DESCRIPTION:Intergenerational activities of songs\, rhymes and stories \nThese sessions will help bring generations together. Families with babies can join residents in care homes to sing\, explore sensory materials\, use puppets and props\, enjoy musical instruments and movement. \nLight refreshments are provided. \nThese sessions will:\n• Increase wellbeing & joy\n• Reduce loneliness & isolation\n• Build meaningful intergenerational relationships \n  \nSessions will be held at two different venues: \nWindmill Care Home\n115 Lyham Road\, Brixton Hill  SW2 5PY \n11am – 12pm Tuesdays (fortnightly)\n28th April\n12th May\n26th May\n9th June\n23rd June \n  \nSanctuary Supported Living\nHillyard House\, 2 Hillyard Street\, Brixton SW9 0NH \n2pm – 3pm Wednesdays (weekly)\n29th April\n6th May\n13th May\n20th May\n27th May \n  \nEnquire or register your interest\nContact Unity Matters 07508 074 921\nunitymatterscic@gmail.com \n 
URL:https://first5lambeth.org/event/young-at-heart/2026-05-13/
LOCATION:Sanctuary Supported Living\, Hillyard House\, 2 Hillyard Street\, Brixton\, SW9 0NH
END:VEVENT
BEGIN:VEVENT
DTSTART;TZID=Europe/London:20260519T100000
DTEND;TZID=Europe/London:20260519T120000
DTSTAMP:20260426T032009
CREATED:20260330T200303Z
LAST-MODIFIED:20260330T201121Z
UID:10012417-1779184800-1779192000@first5lambeth.org
SUMMARY:Fussy Eating (Workshop)
DESCRIPTION:Is your child fussy with food and unsure how to get them to eat healthy food? Come along to the Fussy Eating workshop and get support and new ideas for:\n\n• How to encourage your child to try new foods – and begin to enjoy them!\n• Child-friendly foods that provide what they need to grow and be healthy\n• Happier family mealtimes \n  \nTuesday 19th May at 10am to 12pm \nHenry Fawcett Children’s Centre\nClayton Street\nKennington SE11 5LD \n\n\n  \nHow to book \nBook by email: gstt.hvsupportanddevelopmentworker@nhs.net \nPlease include in your email: \n\nwhich session you would like to attend\nyour name\nyour child’s name\nyour child’s date of birth\nyour postcode\nyour phone number\n\nIf you would like help with your booking\, please contact your local children’s centre in Lambeth and Southwark. They will take your contact details and pass them onto us. We’ll then contact you to book you in. \nHenry also provides other workshops for different stages of your baby’s development\, including: \n\nstarting solids\nfussy eating\nlet’s get active\nhealthy teeth\nhealthy drinks for young children\neating well for less\n\nIf you would like to book other workshops at a different venue in Lambeth and Southwark\, visit their website here. \n  \n \n 
URL:https://first5lambeth.org/event/fussy-eating-workshop/
LOCATION:Henry Fawcett Children’s Centre\, Clayton Street\, Kennington\, SE11 5BZ
END:VEVENT
BEGIN:VEVENT
DTSTART;TZID=Europe/London:20260519T173000
DTEND;TZID=Europe/London:20260519T183000
DTSTAMP:20260426T032009
CREATED:20260324T110449Z
LAST-MODIFIED:20260324T110449Z
UID:10011888-1779211800-1779215400@first5lambeth.org
SUMMARY:Think BiG: Mental Health and Wellbeing Workshop
DESCRIPTION:Think BiG: Mental Health and Wellbeing Workshop (Various dates) \nWhether you’re working with children or wanting to support your own children and young family members\, this workshop will provide skills to support children with their mental health and wellbeing\, such as preventing and managing anxiety\, low mood\, loneliness and much more. \nDates:\nTuesdays at 5.30pm – 6.30pm on\n21st\, 28th April\n5th\, 12th and 19th May\n2nd\, 9th\, 30th June\n7th\, 21st July \nVenue:\n3 Space\, International House\nBrixton\, SW9 7QD \nFor more info\, email: info@bigcic.org\nBiG’s website: https://www.bigcic.org/\nBiG’s Instagram: @think_b.i.g \nIn collaboration with the NHS Child and Adolescent Mental Health Services (CAMHS) and funded by Go!London Fund. \n 
URL:https://first5lambeth.org/event/think-big-mental-health-and-wellbeing-workshop/2026-05-19/
LOCATION:International House\, 3 Space\, International House\, Brixton\, SW9 7QD
ORGANIZER;CN="BiG":MAILTO:info@bigcic.org
END:VEVENT
BEGIN:VEVENT
DTSTART;TZID=Europe/London:20260520T093000
DTEND;TZID=Europe/London:20260520T120000
DTSTAMP:20260426T032009
CREATED:20260324T202224Z
LAST-MODIFIED:20260324T202224Z
UID:10011902-1779269400-1779278400@first5lambeth.org
SUMMARY:1-2-1 Better Start Employment and Training support
DESCRIPTION:Join Hubert for tailored 1-2-1 support to access employment and training opportunities.\nChildren welcome. \nWednesdays 9:30am – 12pm\nEthelred Children’s Centre\n1 Gundulf Street\, Kennington SE11 6BG \n• Identify your skills and experience\n• Apply for jobs\n• Create or update your CV\n• Support with the interview process \nCall to book: 0207 582 9711 (option 2) \n 
URL:https://first5lambeth.org/event/1-2-1-better-start-employment-and-training-support/2026-05-20/
END:VEVENT
BEGIN:VEVENT
DTSTART;TZID=Europe/London:20260520T140000
DTEND;TZID=Europe/London:20260520T150000
DTSTAMP:20260426T032009
CREATED:20260417T165554Z
LAST-MODIFIED:20260417T171040Z
UID:10012685-1779285600-1779289200@first5lambeth.org
SUMMARY:Young at Heart (Wednesday sessions)
DESCRIPTION:Intergenerational activities of songs\, rhymes and stories \nThese sessions will help bring generations together. Families with babies can join residents in care homes to sing\, explore sensory materials\, use puppets and props\, enjoy musical instruments and movement. \nLight refreshments are provided. \nThese sessions will:\n• Increase wellbeing & joy\n• Reduce loneliness & isolation\n• Build meaningful intergenerational relationships \n  \nSessions will be held at two different venues: \nWindmill Care Home\n115 Lyham Road\, Brixton Hill  SW2 5PY \n11am – 12pm Tuesdays (fortnightly)\n28th April\n12th May\n26th May\n9th June\n23rd June \n  \nSanctuary Supported Living\nHillyard House\, 2 Hillyard Street\, Brixton SW9 0NH \n2pm – 3pm Wednesdays (weekly)\n29th April\n6th May\n13th May\n20th May\n27th May \n  \nEnquire or register your interest\nContact Unity Matters 07508 074 921\nunitymatterscic@gmail.com \n 
URL:https://first5lambeth.org/event/young-at-heart/2026-05-20/
LOCATION:Sanctuary Supported Living\, Hillyard House\, 2 Hillyard Street\, Brixton\, SW9 0NH
END:VEVENT
BEGIN:VEVENT
DTSTART;TZID=Europe/London:20260521T153000
DTEND;TZID=Europe/London:20260521T170000
DTSTAMP:20260426T032009
CREATED:20251205T094407Z
LAST-MODIFIED:20251205T120448Z
UID:10011330-1779377400-1779382800@first5lambeth.org
SUMMARY:Free After-School Art Club
DESCRIPTION:Free family art workshops.\nDrop-in on selected Thursday dates this Winter and Spring term.\nParents/Carers – stay too.\nCome when you can (max 20).\nWhen? 3.30 pm – 5 pm on \n22nd January\, 12th February\, 12th March\, 23rd April\, 21st May\, 25th June & 9th July \n\nDaisy and Natti will set up a range of art activities for you to explore\, make and take home. \n\nA supportive space to connect and create.\nNo need to book – Just drop-in.\nFree to attend!
URL:https://first5lambeth.org/event/free-after-school-art-club-5/2026-05-21/
LOCATION:Arts4space studio\, 31 Jeffreys Road\, SW4 6QU
END:VEVENT
BEGIN:VEVENT
DTSTART;TZID=Europe/London:20260526T110000
DTEND;TZID=Europe/London:20260526T120000
DTSTAMP:20260426T032009
CREATED:20260421T112527Z
LAST-MODIFIED:20260421T112527Z
UID:10012798-1779793200-1779796800@first5lambeth.org
SUMMARY:Young at Heart (Tuesday 26th May)
DESCRIPTION:Intergenerational activities of songs\, rhymes and stories \nThese sessions will help bring generations together. Families with babies can join residents in care homes to sing\, explore sensory materials\, use puppets and props\, enjoy musical instruments and movement. \nLight refreshments are provided. \nThese sessions will:\n• Increase wellbeing & joy\n• Reduce loneliness & isolation\n• Build meaningful intergenerational relationships \n  \nSessions will be held at two different venues: \nWindmill Care Home\n115 Lyham Road\, Brixton Hill  SW2 5PY \n11am – 12pm Tuesdays (fortnightly)\n28th April\n12th May\n26th May\n9th June\n23rd June \n  \nEnquire or register your interest\nContact Unity Matters 07508 074 921\nunitymatterscic@gmail.com \n 
URL:https://first5lambeth.org/event/young-at-heart-tuesday-26th-may/
LOCATION:Windmill Care Home\, 115 Lyham Road\, Brixton\, SW2 5PY
END:VEVENT
BEGIN:VEVENT
DTSTART;TZID=Europe/London:20260527T093000
DTEND;TZID=Europe/London:20260527T120000
DTSTAMP:20260426T032009
CREATED:20260324T202224Z
LAST-MODIFIED:20260324T202224Z
UID:10011903-1779874200-1779883200@first5lambeth.org
SUMMARY:1-2-1 Better Start Employment and Training support
DESCRIPTION:Join Hubert for tailored 1-2-1 support to access employment and training opportunities.\nChildren welcome. \nWednesdays 9:30am – 12pm\nEthelred Children’s Centre\n1 Gundulf Street\, Kennington SE11 6BG \n• Identify your skills and experience\n• Apply for jobs\n• Create or update your CV\n• Support with the interview process \nCall to book: 0207 582 9711 (option 2) \n 
URL:https://first5lambeth.org/event/1-2-1-better-start-employment-and-training-support/2026-05-27/
END:VEVENT
BEGIN:VEVENT
DTSTART;TZID=Europe/London:20260527T140000
DTEND;TZID=Europe/London:20260527T150000
DTSTAMP:20260426T032009
CREATED:20260417T165554Z
LAST-MODIFIED:20260417T171040Z
UID:10012686-1779890400-1779894000@first5lambeth.org
SUMMARY:Young at Heart (Wednesday sessions)
DESCRIPTION:Intergenerational activities of songs\, rhymes and stories \nThese sessions will help bring generations together. Families with babies can join residents in care homes to sing\, explore sensory materials\, use puppets and props\, enjoy musical instruments and movement. \nLight refreshments are provided. \nThese sessions will:\n• Increase wellbeing & joy\n• Reduce loneliness & isolation\n• Build meaningful intergenerational relationships \n  \nSessions will be held at two different venues: \nWindmill Care Home\n115 Lyham Road\, Brixton Hill  SW2 5PY \n11am – 12pm Tuesdays (fortnightly)\n28th April\n12th May\n26th May\n9th June\n23rd June \n  \nSanctuary Supported Living\nHillyard House\, 2 Hillyard Street\, Brixton SW9 0NH \n2pm – 3pm Wednesdays (weekly)\n29th April\n6th May\n13th May\n20th May\n27th May \n  \nEnquire or register your interest\nContact Unity Matters 07508 074 921\nunitymatterscic@gmail.com \n 
URL:https://first5lambeth.org/event/young-at-heart/2026-05-27/
LOCATION:Sanctuary Supported Living\, Hillyard House\, 2 Hillyard Street\, Brixton\, SW9 0NH
END:VEVENT
END:VCALENDAR