BEGIN:VCALENDAR
VERSION:2.0
PRODID:-//First 5 Lambeth - ECPv6.15.11//NONSGML v1.0//EN
CALSCALE:GREGORIAN
METHOD:PUBLISH
X-WR-CALNAME:First 5 Lambeth
X-ORIGINAL-URL:https://first5lambeth.org
X-WR-CALDESC:Events for First 5 Lambeth
REFRESH-INTERVAL;VALUE=DURATION:PT1H
X-Robots-Tag:noindex
X-PUBLISHED-TTL:PT1H
BEGIN:VTIMEZONE
TZID:Europe/London
BEGIN:DAYLIGHT
TZOFFSETFROM:+0000
TZOFFSETTO:+0100
TZNAME:BST
DTSTART:20250330T010000
END:DAYLIGHT
BEGIN:STANDARD
TZOFFSETFROM:+0100
TZOFFSETTO:+0000
TZNAME:GMT
DTSTART:20251026T010000
END:STANDARD
BEGIN:DAYLIGHT
TZOFFSETFROM:+0000
TZOFFSETTO:+0100
TZNAME:BST
DTSTART:20260329T010000
END:DAYLIGHT
BEGIN:STANDARD
TZOFFSETFROM:+0100
TZOFFSETTO:+0000
TZNAME:GMT
DTSTART:20261025T010000
END:STANDARD
BEGIN:DAYLIGHT
TZOFFSETFROM:+0000
TZOFFSETTO:+0100
TZNAME:BST
DTSTART:20270328T010000
END:DAYLIGHT
BEGIN:STANDARD
TZOFFSETFROM:+0100
TZOFFSETTO:+0000
TZNAME:GMT
DTSTART:20271031T010000
END:STANDARD
END:VTIMEZONE
BEGIN:VEVENT
DTSTART;TZID=Europe/London:20260908T120000
DTEND;TZID=Europe/London:20260908T140000
DTSTAMP:20260426T043940
CREATED:20240411T135545Z
LAST-MODIFIED:20240902T152831Z
UID:10002279-1788868800-1788876000@first5lambeth.org
SUMMARY:Jubilee Hall Pantry
DESCRIPTION:A pantry is a community shop offering members a weekly choice of healthy food. Each visit you pay just £2.50 or £5 and choose the items you want. Food offered is a mix of fresh fruit and veg along with other food and cupboard staples. \nNo need to book\, just drop in on the day.
URL:https://first5lambeth.org/event/jubilee-hall-pantry/2026-09-08/
LOCATION:Jubilee Hall\, Tulse Hill\, SW2 2LY
END:VEVENT
BEGIN:VEVENT
DTSTART;TZID=Europe/London:20260910T110000
DTEND;TZID=Europe/London:20260910T150000
DTSTAMP:20260426T043940
CREATED:20240411T140200Z
LAST-MODIFIED:20240902T152617Z
UID:10002803-1789038000-1789052400@first5lambeth.org
SUMMARY:Moorlands Pantry
DESCRIPTION:A pantry is a community shop offering members a weekly choice of healthy food. Each visit you pay just £2.50 or £5 and choose the items you want. Food offered is a mix of fresh fruit and veg along with other food and cupboard staples. \nNo need to book\, just drop in on the day.
URL:https://first5lambeth.org/event/moorlands-pantry/2026-09-10/
LOCATION:Moorlands Community Centre\, 50a Corry Drive\, SW9 8QT
END:VEVENT
BEGIN:VEVENT
DTSTART;TZID=Europe/London:20260915T100000
DTEND;TZID=Europe/London:20260915T130000
DTSTAMP:20260426T043940
CREATED:20240411T122632Z
LAST-MODIFIED:20260313T155827Z
UID:10002018-1789466400-1789477200@first5lambeth.org
SUMMARY:Myatt’s Field Pantry
DESCRIPTION:A pantry is a community shop offering members a weekly choice of healthy food. Each visit you pay just £2.50 or £5 and choose the items you want. Food offered is a mix of fresh fruit and veg along with other food and cupboard staples. \nNo need to book\, just drop in on the day.
URL:https://first5lambeth.org/event/myatts-field-pantry/2026-09-15/
LOCATION:Myatt’s Field Centre\, 24 Crawshay Road\, SW9 6FZ
END:VEVENT
BEGIN:VEVENT
DTSTART;TZID=Europe/London:20260915T120000
DTEND;TZID=Europe/London:20260915T140000
DTSTAMP:20260426T043940
CREATED:20240411T135545Z
LAST-MODIFIED:20240902T152831Z
UID:10002280-1789473600-1789480800@first5lambeth.org
SUMMARY:Jubilee Hall Pantry
DESCRIPTION:A pantry is a community shop offering members a weekly choice of healthy food. Each visit you pay just £2.50 or £5 and choose the items you want. Food offered is a mix of fresh fruit and veg along with other food and cupboard staples. \nNo need to book\, just drop in on the day.
URL:https://first5lambeth.org/event/jubilee-hall-pantry/2026-09-15/
LOCATION:Jubilee Hall\, Tulse Hill\, SW2 2LY
END:VEVENT
BEGIN:VEVENT
DTSTART;TZID=Europe/London:20260917T110000
DTEND;TZID=Europe/London:20260917T150000
DTSTAMP:20260426T043940
CREATED:20240411T140200Z
LAST-MODIFIED:20240902T152617Z
UID:10002804-1789642800-1789657200@first5lambeth.org
SUMMARY:Moorlands Pantry
DESCRIPTION:A pantry is a community shop offering members a weekly choice of healthy food. Each visit you pay just £2.50 or £5 and choose the items you want. Food offered is a mix of fresh fruit and veg along with other food and cupboard staples. \nNo need to book\, just drop in on the day.
URL:https://first5lambeth.org/event/moorlands-pantry/2026-09-17/
LOCATION:Moorlands Community Centre\, 50a Corry Drive\, SW9 8QT
END:VEVENT
BEGIN:VEVENT
DTSTART;TZID=Europe/London:20260922T100000
DTEND;TZID=Europe/London:20260922T130000
DTSTAMP:20260426T043940
CREATED:20240411T122632Z
LAST-MODIFIED:20260313T155827Z
UID:10002019-1790071200-1790082000@first5lambeth.org
SUMMARY:Myatt’s Field Pantry
DESCRIPTION:A pantry is a community shop offering members a weekly choice of healthy food. Each visit you pay just £2.50 or £5 and choose the items you want. Food offered is a mix of fresh fruit and veg along with other food and cupboard staples. \nNo need to book\, just drop in on the day.
URL:https://first5lambeth.org/event/myatts-field-pantry/2026-09-22/
LOCATION:Myatt’s Field Centre\, 24 Crawshay Road\, SW9 6FZ
END:VEVENT
BEGIN:VEVENT
DTSTART;TZID=Europe/London:20260922T120000
DTEND;TZID=Europe/London:20260922T140000
DTSTAMP:20260426T043940
CREATED:20240411T135545Z
LAST-MODIFIED:20240902T152831Z
UID:10002281-1790078400-1790085600@first5lambeth.org
SUMMARY:Jubilee Hall Pantry
DESCRIPTION:A pantry is a community shop offering members a weekly choice of healthy food. Each visit you pay just £2.50 or £5 and choose the items you want. Food offered is a mix of fresh fruit and veg along with other food and cupboard staples. \nNo need to book\, just drop in on the day.
URL:https://first5lambeth.org/event/jubilee-hall-pantry/2026-09-22/
LOCATION:Jubilee Hall\, Tulse Hill\, SW2 2LY
END:VEVENT
BEGIN:VEVENT
DTSTART;TZID=Europe/London:20260924T110000
DTEND;TZID=Europe/London:20260924T150000
DTSTAMP:20260426T043940
CREATED:20240411T140200Z
LAST-MODIFIED:20240902T152617Z
UID:10002805-1790247600-1790262000@first5lambeth.org
SUMMARY:Moorlands Pantry
DESCRIPTION:A pantry is a community shop offering members a weekly choice of healthy food. Each visit you pay just £2.50 or £5 and choose the items you want. Food offered is a mix of fresh fruit and veg along with other food and cupboard staples. \nNo need to book\, just drop in on the day.
URL:https://first5lambeth.org/event/moorlands-pantry/2026-09-24/
LOCATION:Moorlands Community Centre\, 50a Corry Drive\, SW9 8QT
END:VEVENT
BEGIN:VEVENT
DTSTART;TZID=Europe/London:20260929T100000
DTEND;TZID=Europe/London:20260929T130000
DTSTAMP:20260426T043940
CREATED:20240411T122632Z
LAST-MODIFIED:20260313T155827Z
UID:10002020-1790676000-1790686800@first5lambeth.org
SUMMARY:Myatt’s Field Pantry
DESCRIPTION:A pantry is a community shop offering members a weekly choice of healthy food. Each visit you pay just £2.50 or £5 and choose the items you want. Food offered is a mix of fresh fruit and veg along with other food and cupboard staples. \nNo need to book\, just drop in on the day.
URL:https://first5lambeth.org/event/myatts-field-pantry/2026-09-29/
LOCATION:Myatt’s Field Centre\, 24 Crawshay Road\, SW9 6FZ
END:VEVENT
BEGIN:VEVENT
DTSTART;TZID=Europe/London:20260929T120000
DTEND;TZID=Europe/London:20260929T140000
DTSTAMP:20260426T043940
CREATED:20240411T135545Z
LAST-MODIFIED:20240902T152831Z
UID:10002282-1790683200-1790690400@first5lambeth.org
SUMMARY:Jubilee Hall Pantry
DESCRIPTION:A pantry is a community shop offering members a weekly choice of healthy food. Each visit you pay just £2.50 or £5 and choose the items you want. Food offered is a mix of fresh fruit and veg along with other food and cupboard staples. \nNo need to book\, just drop in on the day.
URL:https://first5lambeth.org/event/jubilee-hall-pantry/2026-09-29/
LOCATION:Jubilee Hall\, Tulse Hill\, SW2 2LY
END:VEVENT
BEGIN:VEVENT
DTSTART;TZID=Europe/London:20261001T110000
DTEND;TZID=Europe/London:20261001T150000
DTSTAMP:20260426T043940
CREATED:20240411T140200Z
LAST-MODIFIED:20240902T152617Z
UID:10002806-1790852400-1790866800@first5lambeth.org
SUMMARY:Moorlands Pantry
DESCRIPTION:A pantry is a community shop offering members a weekly choice of healthy food. Each visit you pay just £2.50 or £5 and choose the items you want. Food offered is a mix of fresh fruit and veg along with other food and cupboard staples. \nNo need to book\, just drop in on the day.
URL:https://first5lambeth.org/event/moorlands-pantry/2026-10-01/
LOCATION:Moorlands Community Centre\, 50a Corry Drive\, SW9 8QT
END:VEVENT
BEGIN:VEVENT
DTSTART;TZID=Europe/London:20261006T100000
DTEND;TZID=Europe/London:20261006T130000
DTSTAMP:20260426T043940
CREATED:20240411T122632Z
LAST-MODIFIED:20260313T155827Z
UID:10002021-1791280800-1791291600@first5lambeth.org
SUMMARY:Myatt’s Field Pantry
DESCRIPTION:A pantry is a community shop offering members a weekly choice of healthy food. Each visit you pay just £2.50 or £5 and choose the items you want. Food offered is a mix of fresh fruit and veg along with other food and cupboard staples. \nNo need to book\, just drop in on the day.
URL:https://first5lambeth.org/event/myatts-field-pantry/2026-10-06/
LOCATION:Myatt’s Field Centre\, 24 Crawshay Road\, SW9 6FZ
END:VEVENT
BEGIN:VEVENT
DTSTART;TZID=Europe/London:20261006T120000
DTEND;TZID=Europe/London:20261006T140000
DTSTAMP:20260426T043940
CREATED:20240411T135545Z
LAST-MODIFIED:20240902T152831Z
UID:10002283-1791288000-1791295200@first5lambeth.org
SUMMARY:Jubilee Hall Pantry
DESCRIPTION:A pantry is a community shop offering members a weekly choice of healthy food. Each visit you pay just £2.50 or £5 and choose the items you want. Food offered is a mix of fresh fruit and veg along with other food and cupboard staples. \nNo need to book\, just drop in on the day.
URL:https://first5lambeth.org/event/jubilee-hall-pantry/2026-10-06/
LOCATION:Jubilee Hall\, Tulse Hill\, SW2 2LY
END:VEVENT
BEGIN:VEVENT
DTSTART;TZID=Europe/London:20261008T110000
DTEND;TZID=Europe/London:20261008T150000
DTSTAMP:20260426T043940
CREATED:20240411T140200Z
LAST-MODIFIED:20240902T152617Z
UID:10002807-1791457200-1791471600@first5lambeth.org
SUMMARY:Moorlands Pantry
DESCRIPTION:A pantry is a community shop offering members a weekly choice of healthy food. Each visit you pay just £2.50 or £5 and choose the items you want. Food offered is a mix of fresh fruit and veg along with other food and cupboard staples. \nNo need to book\, just drop in on the day.
URL:https://first5lambeth.org/event/moorlands-pantry/2026-10-08/
LOCATION:Moorlands Community Centre\, 50a Corry Drive\, SW9 8QT
END:VEVENT
BEGIN:VEVENT
DTSTART;TZID=Europe/London:20261013T100000
DTEND;TZID=Europe/London:20261013T130000
DTSTAMP:20260426T043940
CREATED:20240411T122632Z
LAST-MODIFIED:20260313T155827Z
UID:10002022-1791885600-1791896400@first5lambeth.org
SUMMARY:Myatt’s Field Pantry
DESCRIPTION:A pantry is a community shop offering members a weekly choice of healthy food. Each visit you pay just £2.50 or £5 and choose the items you want. Food offered is a mix of fresh fruit and veg along with other food and cupboard staples. \nNo need to book\, just drop in on the day.
URL:https://first5lambeth.org/event/myatts-field-pantry/2026-10-13/
LOCATION:Myatt’s Field Centre\, 24 Crawshay Road\, SW9 6FZ
END:VEVENT
BEGIN:VEVENT
DTSTART;TZID=Europe/London:20261013T120000
DTEND;TZID=Europe/London:20261013T140000
DTSTAMP:20260426T043940
CREATED:20240411T135545Z
LAST-MODIFIED:20240902T152831Z
UID:10002284-1791892800-1791900000@first5lambeth.org
SUMMARY:Jubilee Hall Pantry
DESCRIPTION:A pantry is a community shop offering members a weekly choice of healthy food. Each visit you pay just £2.50 or £5 and choose the items you want. Food offered is a mix of fresh fruit and veg along with other food and cupboard staples. \nNo need to book\, just drop in on the day.
URL:https://first5lambeth.org/event/jubilee-hall-pantry/2026-10-13/
LOCATION:Jubilee Hall\, Tulse Hill\, SW2 2LY
END:VEVENT
BEGIN:VEVENT
DTSTART;TZID=Europe/London:20261015T110000
DTEND;TZID=Europe/London:20261015T150000
DTSTAMP:20260426T043940
CREATED:20240411T140200Z
LAST-MODIFIED:20240902T152617Z
UID:10002808-1792062000-1792076400@first5lambeth.org
SUMMARY:Moorlands Pantry
DESCRIPTION:A pantry is a community shop offering members a weekly choice of healthy food. Each visit you pay just £2.50 or £5 and choose the items you want. Food offered is a mix of fresh fruit and veg along with other food and cupboard staples. \nNo need to book\, just drop in on the day.
URL:https://first5lambeth.org/event/moorlands-pantry/2026-10-15/
LOCATION:Moorlands Community Centre\, 50a Corry Drive\, SW9 8QT
END:VEVENT
BEGIN:VEVENT
DTSTART;TZID=Europe/London:20261020T100000
DTEND;TZID=Europe/London:20261020T130000
DTSTAMP:20260426T043940
CREATED:20240411T122632Z
LAST-MODIFIED:20260313T155827Z
UID:10002023-1792490400-1792501200@first5lambeth.org
SUMMARY:Myatt’s Field Pantry
DESCRIPTION:A pantry is a community shop offering members a weekly choice of healthy food. Each visit you pay just £2.50 or £5 and choose the items you want. Food offered is a mix of fresh fruit and veg along with other food and cupboard staples. \nNo need to book\, just drop in on the day.
URL:https://first5lambeth.org/event/myatts-field-pantry/2026-10-20/
LOCATION:Myatt’s Field Centre\, 24 Crawshay Road\, SW9 6FZ
END:VEVENT
BEGIN:VEVENT
DTSTART;TZID=Europe/London:20261020T120000
DTEND;TZID=Europe/London:20261020T140000
DTSTAMP:20260426T043940
CREATED:20240411T135545Z
LAST-MODIFIED:20240902T152831Z
UID:10002285-1792497600-1792504800@first5lambeth.org
SUMMARY:Jubilee Hall Pantry
DESCRIPTION:A pantry is a community shop offering members a weekly choice of healthy food. Each visit you pay just £2.50 or £5 and choose the items you want. Food offered is a mix of fresh fruit and veg along with other food and cupboard staples. \nNo need to book\, just drop in on the day.
URL:https://first5lambeth.org/event/jubilee-hall-pantry/2026-10-20/
LOCATION:Jubilee Hall\, Tulse Hill\, SW2 2LY
END:VEVENT
BEGIN:VEVENT
DTSTART;TZID=Europe/London:20261022T110000
DTEND;TZID=Europe/London:20261022T150000
DTSTAMP:20260426T043940
CREATED:20240411T140200Z
LAST-MODIFIED:20240902T152617Z
UID:10002809-1792666800-1792681200@first5lambeth.org
SUMMARY:Moorlands Pantry
DESCRIPTION:A pantry is a community shop offering members a weekly choice of healthy food. Each visit you pay just £2.50 or £5 and choose the items you want. Food offered is a mix of fresh fruit and veg along with other food and cupboard staples. \nNo need to book\, just drop in on the day.
URL:https://first5lambeth.org/event/moorlands-pantry/2026-10-22/
LOCATION:Moorlands Community Centre\, 50a Corry Drive\, SW9 8QT
END:VEVENT
BEGIN:VEVENT
DTSTART;TZID=Europe/London:20261027T100000
DTEND;TZID=Europe/London:20261027T130000
DTSTAMP:20260426T043940
CREATED:20240411T122632Z
LAST-MODIFIED:20260313T155827Z
UID:10002024-1793095200-1793106000@first5lambeth.org
SUMMARY:Myatt’s Field Pantry
DESCRIPTION:A pantry is a community shop offering members a weekly choice of healthy food. Each visit you pay just £2.50 or £5 and choose the items you want. Food offered is a mix of fresh fruit and veg along with other food and cupboard staples. \nNo need to book\, just drop in on the day.
URL:https://first5lambeth.org/event/myatts-field-pantry/2026-10-27/
LOCATION:Myatt’s Field Centre\, 24 Crawshay Road\, SW9 6FZ
END:VEVENT
BEGIN:VEVENT
DTSTART;TZID=Europe/London:20261027T120000
DTEND;TZID=Europe/London:20261027T140000
DTSTAMP:20260426T043940
CREATED:20240411T135545Z
LAST-MODIFIED:20240902T152831Z
UID:10002286-1793102400-1793109600@first5lambeth.org
SUMMARY:Jubilee Hall Pantry
DESCRIPTION:A pantry is a community shop offering members a weekly choice of healthy food. Each visit you pay just £2.50 or £5 and choose the items you want. Food offered is a mix of fresh fruit and veg along with other food and cupboard staples. \nNo need to book\, just drop in on the day.
URL:https://first5lambeth.org/event/jubilee-hall-pantry/2026-10-27/
LOCATION:Jubilee Hall\, Tulse Hill\, SW2 2LY
END:VEVENT
BEGIN:VEVENT
DTSTART;TZID=Europe/London:20261029T110000
DTEND;TZID=Europe/London:20261029T150000
DTSTAMP:20260426T043940
CREATED:20240411T140200Z
LAST-MODIFIED:20240902T152617Z
UID:10002810-1793271600-1793286000@first5lambeth.org
SUMMARY:Moorlands Pantry
DESCRIPTION:A pantry is a community shop offering members a weekly choice of healthy food. Each visit you pay just £2.50 or £5 and choose the items you want. Food offered is a mix of fresh fruit and veg along with other food and cupboard staples. \nNo need to book\, just drop in on the day.
URL:https://first5lambeth.org/event/moorlands-pantry/2026-10-29/
LOCATION:Moorlands Community Centre\, 50a Corry Drive\, SW9 8QT
END:VEVENT
BEGIN:VEVENT
DTSTART;TZID=Europe/London:20261103T100000
DTEND;TZID=Europe/London:20261103T130000
DTSTAMP:20260426T043940
CREATED:20240411T122632Z
LAST-MODIFIED:20260313T155827Z
UID:10002025-1793700000-1793710800@first5lambeth.org
SUMMARY:Myatt’s Field Pantry
DESCRIPTION:A pantry is a community shop offering members a weekly choice of healthy food. Each visit you pay just £2.50 or £5 and choose the items you want. Food offered is a mix of fresh fruit and veg along with other food and cupboard staples. \nNo need to book\, just drop in on the day.
URL:https://first5lambeth.org/event/myatts-field-pantry/2026-11-03/
LOCATION:Myatt’s Field Centre\, 24 Crawshay Road\, SW9 6FZ
END:VEVENT
BEGIN:VEVENT
DTSTART;TZID=Europe/London:20261103T120000
DTEND;TZID=Europe/London:20261103T140000
DTSTAMP:20260426T043940
CREATED:20240411T135545Z
LAST-MODIFIED:20240902T152831Z
UID:10002287-1793707200-1793714400@first5lambeth.org
SUMMARY:Jubilee Hall Pantry
DESCRIPTION:A pantry is a community shop offering members a weekly choice of healthy food. Each visit you pay just £2.50 or £5 and choose the items you want. Food offered is a mix of fresh fruit and veg along with other food and cupboard staples. \nNo need to book\, just drop in on the day.
URL:https://first5lambeth.org/event/jubilee-hall-pantry/2026-11-03/
LOCATION:Jubilee Hall\, Tulse Hill\, SW2 2LY
END:VEVENT
BEGIN:VEVENT
DTSTART;TZID=Europe/London:20261105T110000
DTEND;TZID=Europe/London:20261105T150000
DTSTAMP:20260426T043940
CREATED:20240411T140200Z
LAST-MODIFIED:20240902T152617Z
UID:10002811-1793876400-1793890800@first5lambeth.org
SUMMARY:Moorlands Pantry
DESCRIPTION:A pantry is a community shop offering members a weekly choice of healthy food. Each visit you pay just £2.50 or £5 and choose the items you want. Food offered is a mix of fresh fruit and veg along with other food and cupboard staples. \nNo need to book\, just drop in on the day.
URL:https://first5lambeth.org/event/moorlands-pantry/2026-11-05/
LOCATION:Moorlands Community Centre\, 50a Corry Drive\, SW9 8QT
END:VEVENT
BEGIN:VEVENT
DTSTART;TZID=Europe/London:20261110T100000
DTEND;TZID=Europe/London:20261110T130000
DTSTAMP:20260426T043940
CREATED:20240411T122632Z
LAST-MODIFIED:20260313T155827Z
UID:10002026-1794304800-1794315600@first5lambeth.org
SUMMARY:Myatt’s Field Pantry
DESCRIPTION:A pantry is a community shop offering members a weekly choice of healthy food. Each visit you pay just £2.50 or £5 and choose the items you want. Food offered is a mix of fresh fruit and veg along with other food and cupboard staples. \nNo need to book\, just drop in on the day.
URL:https://first5lambeth.org/event/myatts-field-pantry/2026-11-10/
LOCATION:Myatt’s Field Centre\, 24 Crawshay Road\, SW9 6FZ
END:VEVENT
BEGIN:VEVENT
DTSTART;TZID=Europe/London:20261110T120000
DTEND;TZID=Europe/London:20261110T140000
DTSTAMP:20260426T043940
CREATED:20240411T135545Z
LAST-MODIFIED:20240902T152831Z
UID:10002288-1794312000-1794319200@first5lambeth.org
SUMMARY:Jubilee Hall Pantry
DESCRIPTION:A pantry is a community shop offering members a weekly choice of healthy food. Each visit you pay just £2.50 or £5 and choose the items you want. Food offered is a mix of fresh fruit and veg along with other food and cupboard staples. \nNo need to book\, just drop in on the day.
URL:https://first5lambeth.org/event/jubilee-hall-pantry/2026-11-10/
LOCATION:Jubilee Hall\, Tulse Hill\, SW2 2LY
END:VEVENT
BEGIN:VEVENT
DTSTART;TZID=Europe/London:20261112T110000
DTEND;TZID=Europe/London:20261112T150000
DTSTAMP:20260426T043940
CREATED:20240411T140200Z
LAST-MODIFIED:20240902T152617Z
UID:10002812-1794481200-1794495600@first5lambeth.org
SUMMARY:Moorlands Pantry
DESCRIPTION:A pantry is a community shop offering members a weekly choice of healthy food. Each visit you pay just £2.50 or £5 and choose the items you want. Food offered is a mix of fresh fruit and veg along with other food and cupboard staples. \nNo need to book\, just drop in on the day.
URL:https://first5lambeth.org/event/moorlands-pantry/2026-11-12/
LOCATION:Moorlands Community Centre\, 50a Corry Drive\, SW9 8QT
END:VEVENT
BEGIN:VEVENT
DTSTART;TZID=Europe/London:20261117T100000
DTEND;TZID=Europe/London:20261117T130000
DTSTAMP:20260426T043940
CREATED:20240411T122632Z
LAST-MODIFIED:20260313T155827Z
UID:10002027-1794909600-1794920400@first5lambeth.org
SUMMARY:Myatt’s Field Pantry
DESCRIPTION:A pantry is a community shop offering members a weekly choice of healthy food. Each visit you pay just £2.50 or £5 and choose the items you want. Food offered is a mix of fresh fruit and veg along with other food and cupboard staples. \nNo need to book\, just drop in on the day.
URL:https://first5lambeth.org/event/myatts-field-pantry/2026-11-17/
LOCATION:Myatt’s Field Centre\, 24 Crawshay Road\, SW9 6FZ
END:VEVENT
END:VCALENDAR