BEGIN:VCALENDAR
VERSION:2.0
PRODID:-//First 5 Lambeth - ECPv6.15.11//NONSGML v1.0//EN
CALSCALE:GREGORIAN
METHOD:PUBLISH
X-ORIGINAL-URL:https://first5lambeth.org
X-WR-CALDESC:Events for First 5 Lambeth
REFRESH-INTERVAL;VALUE=DURATION:PT1H
X-Robots-Tag:noindex
X-PUBLISHED-TTL:PT1H
BEGIN:VTIMEZONE
TZID:Europe/London
BEGIN:DAYLIGHT
TZOFFSETFROM:+0000
TZOFFSETTO:+0100
TZNAME:BST
DTSTART:20250330T010000
END:DAYLIGHT
BEGIN:STANDARD
TZOFFSETFROM:+0100
TZOFFSETTO:+0000
TZNAME:GMT
DTSTART:20251026T010000
END:STANDARD
BEGIN:DAYLIGHT
TZOFFSETFROM:+0000
TZOFFSETTO:+0100
TZNAME:BST
DTSTART:20260329T010000
END:DAYLIGHT
BEGIN:STANDARD
TZOFFSETFROM:+0100
TZOFFSETTO:+0000
TZNAME:GMT
DTSTART:20261025T010000
END:STANDARD
BEGIN:DAYLIGHT
TZOFFSETFROM:+0000
TZOFFSETTO:+0100
TZNAME:BST
DTSTART:20270328T010000
END:DAYLIGHT
BEGIN:STANDARD
TZOFFSETFROM:+0100
TZOFFSETTO:+0000
TZNAME:GMT
DTSTART:20271031T010000
END:STANDARD
END:VTIMEZONE
BEGIN:VEVENT
DTSTART;TZID=Europe/London:20260101T103000
DTEND;TZID=Europe/London:20260101T113000
DTSTAMP:20260424T130745
CREATED:20240411T103654Z
LAST-MODIFIED:20250905T175343Z
UID:10000654-1767263400-1767267000@first5lambeth.org
SUMMARY:Family Dance Sessions (Term time only)
DESCRIPTION:Join us for a fun and engaging dance.\nDance is a fantastic way to enhance a child’s physical development by encouraging the use of motor skills\, balance\, coordination\, and muscle strength. The repetitive movements and patterns in dance also help children gain control over their bodies and improve their spatial awareness. \nDancing can also encourage healthy bonding and communication between child and parent\, it is also a fun way for the parent to get active and physical in a more joyful environment. \nTaking place every Thursday at 10.30am – 11.30am \nCEFLynx Greenhut Brixton Windmill Gardens\nBlenheim Gardens\nBrixton Hill\nSW2 5DA \nPhone: 02086715587\nEmail: community7@cefi.org.uk
URL:https://first5lambeth.org/event/family-dance-sessions/2026-01-01/
LOCATION:CEFLynx\, Greenhut at Brixton Windmill Gardens\, Blenheim Gardens\,\, Brixton Hill\, SW2 5DA
ORGANIZER;CN="Community Education Foundation & Lyncx (CEF Lyncx)":MAILTO:community7@cefi.org.uk
END:VEVENT
BEGIN:VEVENT
DTSTART;TZID=Europe/London:20260101T110000
DTEND;TZID=Europe/London:20260101T150000
DTSTAMP:20260424T130745
CREATED:20240411T140200Z
LAST-MODIFIED:20240902T152617Z
UID:10002767-1767265200-1767279600@first5lambeth.org
SUMMARY:Moorlands Pantry
DESCRIPTION:A pantry is a community shop offering members a weekly choice of healthy food. Each visit you pay just £2.50 or £5 and choose the items you want. Food offered is a mix of fresh fruit and veg along with other food and cupboard staples. \nNo need to book\, just drop in on the day.
URL:https://first5lambeth.org/event/moorlands-pantry/2026-01-01/
LOCATION:Moorlands Community Centre\, 50a Corry Drive\, SW9 8QT
END:VEVENT
BEGIN:VEVENT
DTSTART;TZID=Europe/London:20260103T100000
DTEND;TZID=Europe/London:20260103T120000
DTSTAMP:20260424T130745
CREATED:20250116T211150Z
LAST-MODIFIED:20250718T084210Z
UID:10001720-1767434400-1767441600@first5lambeth.org
SUMMARY:Fathers and Influential Males. Under 5s Stay & Play
DESCRIPTION:Opportunity to meet other local Dad’s and share fatherhood experiences. Have fun learning through play and find out what’s happening locally. \nThis session is exclusive to Dad’s and influential males  and their little ones up to 5 years old. \nThis session is very popular and gets busy so first come\, first served! \nMeet at Brockwell park children’s centre (green hut next to the playground). \nNo need to book\, just drop in on the day.
URL:https://first5lambeth.org/event/fathers-and-influential-males-faim-under-5s-stay-play-term-time-only-2/2026-01-03/
LOCATION:Brockwell Park Playground\, SW2 2DB
END:VEVENT
BEGIN:VEVENT
DTSTART;TZID=Europe/London:20260105T133000
DTEND;TZID=Europe/London:20260105T150000
DTSTAMP:20260424T130745
CREATED:20250905T220011Z
LAST-MODIFIED:20251016T205320Z
UID:10004078-1767619800-1767625200@first5lambeth.org
SUMMARY:Whippersnappers and Liz Atkinson Stay & Play Sessions
DESCRIPTION:Whippersnappers and Liz Atkinson\nStay & play sessions\nSessions are FREE and include sensory music\, drumming and stories\, messy play\, parachute games and lots of fun! \nMeet other parents and carers with children with SEND and access SEND information and support from our Whippesnappers Family Support Worker. \nMondays 1:30pm-3:00pm at The Liz Atkinson Children Centre\n9 Mostyn Rd\nSW9 6PH\nTerm time only \nWho can join the club?\nDo you have a pre-school child with additional needs?\nDo you sometimes wonder if your child might have additional needs? \nIf yes\, come and join us! \nThese sessions are funded by the Walcot Foundation.
URL:https://first5lambeth.org/event/whippersnappers-send-stay-and-play-sessions-2/2026-01-05/
LOCATION:Liz Atkinson Children’s Centre\, 9 Mostyn Road\, SW9 6PH
ORGANIZER;CN="Whippersnappers":MAILTO:info@whippersnappers.org
END:VEVENT
BEGIN:VEVENT
DTSTART;TZID=Europe/London:20260106T093000
DTEND;TZID=Europe/London:20260106T093000
DTSTAMP:20260424T130745
CREATED:20250905T161451Z
LAST-MODIFIED:20250905T164026Z
UID:10006942-1767691800-1767691800@first5lambeth.org
SUMMARY:Childminders link-up play session (morning)
DESCRIPTION:Offering a safe space and opportunity for child minders and children to come and access not only our diverse range of child development resources but to network\, share good practice ideas and connecting children with the wider community of children in their care. \nThis session runs twice on Tuesdays:\nMorning: 9.30am – 11am\nAfternoon: 1pm – 3pm \nProvided by CEFLynx\nIn the Greenhut at Brixton Windmill Gardens\nBlenheim Gardens\, Brixton Hill\nSW2 5DA \nPhone: 02086715587 \nEmail: community7@cefi.org.uk
URL:https://first5lambeth.org/event/childminders-link-up-play-session/2026-01-06/
LOCATION:CEFLynx\, Greenhut at Brixton Windmill Gardens\, Blenheim Gardens\,\, Brixton Hill\, SW2 5DA
ORGANIZER;CN="Community Education Foundation & Lyncx (CEF Lyncx)":MAILTO:community7@cefi.org.uk
END:VEVENT
BEGIN:VEVENT
DTSTART;TZID=Europe/London:20260106T100000
DTEND;TZID=Europe/London:20260106T130000
DTSTAMP:20260424T130745
CREATED:20240411T122632Z
LAST-MODIFIED:20260313T155827Z
UID:10001982-1767693600-1767704400@first5lambeth.org
SUMMARY:Myatt’s Field Pantry
DESCRIPTION:A pantry is a community shop offering members a weekly choice of healthy food. Each visit you pay just £2.50 or £5 and choose the items you want. Food offered is a mix of fresh fruit and veg along with other food and cupboard staples. \nNo need to book\, just drop in on the day.
URL:https://first5lambeth.org/event/myatts-field-pantry/2026-01-06/
LOCATION:Myatt’s Field Centre\, 24 Crawshay Road\, SW9 6FZ
END:VEVENT
BEGIN:VEVENT
DTSTART;TZID=Europe/London:20260106T120000
DTEND;TZID=Europe/London:20260106T140000
DTSTAMP:20260424T130745
CREATED:20240411T135545Z
LAST-MODIFIED:20240902T152831Z
UID:10002244-1767700800-1767708000@first5lambeth.org
SUMMARY:Jubilee Hall Pantry
DESCRIPTION:A pantry is a community shop offering members a weekly choice of healthy food. Each visit you pay just £2.50 or £5 and choose the items you want. Food offered is a mix of fresh fruit and veg along with other food and cupboard staples. \nNo need to book\, just drop in on the day.
URL:https://first5lambeth.org/event/jubilee-hall-pantry/2026-01-06/
LOCATION:Jubilee Hall\, Tulse Hill\, SW2 2LY
END:VEVENT
BEGIN:VEVENT
DTSTART;TZID=Europe/London:20260106T130000
DTEND;TZID=Europe/London:20260106T143000
DTSTAMP:20260424T130745
CREATED:20250905T173503Z
LAST-MODIFIED:20250905T222052Z
UID:10009709-1767704400-1767709800@first5lambeth.org
SUMMARY:SENsations Stay & Play
DESCRIPTION:SEND (Special Educational Needs and Disabilities) stay and play sessions are held to provide children with special needs and their families with a safe\, supportive\, and stimulating environment for play and socialisation. These sessions encourage the development of play\, communication\, and interaction skills\, offer access to sensory play\, and help families connect with others in similar situations and with local support services. The groups also give parents practical advice\, support\, and information to help them in their child’s development journey. \nEvery Tuesdays 1pm – 2.30pm \nHenry Fawcett Children’s Centre\nClayton Street\nSE11 5BZ \nPhone: 02070911282
URL:https://first5lambeth.org/event/sensations-stay-play/2026-01-06/
LOCATION:Henry Fawcett Children’s Centre\, Clayton Street\, Kennington\, SE11 5BZ
END:VEVENT
BEGIN:VEVENT
DTSTART;TZID=Europe/London:20260106T130000
DTEND;TZID=Europe/London:20260106T150000
DTSTAMP:20260424T130745
CREATED:20250905T172813Z
LAST-MODIFIED:20250905T221605Z
UID:10009448-1767704400-1767711600@first5lambeth.org
SUMMARY:SEND Stay & Play
DESCRIPTION:SEND (Special Educational Needs and Disabilities) stay and play sessions are held to provide children with special needs and their families with a safe\, supportive\, and stimulating environment for play and socialisation. These sessions encourage the development of play\, communication\, and interaction skills\, offer access to sensory play\, and help families connect with others in similar situations and with local support services. The groups also give parents practical advice\, support\, and information to help them in their child’s development journey. \nTuesdays 1pm – 3pm \nBenton’s Lane Children’s Centre\n18 Bentons Lane\nNorwood\nSE27 9UD \nPhone: 02045423520 \n 
URL:https://first5lambeth.org/event/send-stay-play/2026-01-06/
LOCATION:Benton’s Lane Childrens Centre\, 18 Benton's Lane\, Norwood\, SE27 9UD
END:VEVENT
BEGIN:VEVENT
DTSTART;TZID=Europe/London:20260107T090000
DTEND;TZID=Europe/London:20260107T100000
DTSTAMP:20260424T130745
CREATED:20240411T102730Z
LAST-MODIFIED:20240902T152753Z
UID:10000393-1767776400-1767780000@first5lambeth.org
SUMMARY:Little Sunflowers
DESCRIPTION:For families with children aged 0-3 with: free play\, craft activities\, light refreshments and guest speakers every fortnight during term time. \n-Meet other local parents and careers\, and share experiences\n– Play and learn in a safe and stimulating environment\n– Get ready to start nursery school \nNo need to book\, just drop in on the day.
URL:https://first5lambeth.org/event/little-sunflowers/2026-01-07/
LOCATION:Allen Edwards Primary School\, Allen Edwards Primary School\, Studley Road\, Stockwell\, SW4 6RP
END:VEVENT
BEGIN:VEVENT
DTSTART;TZID=Europe/London:20260108T103000
DTEND;TZID=Europe/London:20260108T113000
DTSTAMP:20260424T130745
CREATED:20240411T103654Z
LAST-MODIFIED:20250905T175343Z
UID:10000655-1767868200-1767871800@first5lambeth.org
SUMMARY:Family Dance Sessions (Term time only)
DESCRIPTION:Join us for a fun and engaging dance.\nDance is a fantastic way to enhance a child’s physical development by encouraging the use of motor skills\, balance\, coordination\, and muscle strength. The repetitive movements and patterns in dance also help children gain control over their bodies and improve their spatial awareness. \nDancing can also encourage healthy bonding and communication between child and parent\, it is also a fun way for the parent to get active and physical in a more joyful environment. \nTaking place every Thursday at 10.30am – 11.30am \nCEFLynx Greenhut Brixton Windmill Gardens\nBlenheim Gardens\nBrixton Hill\nSW2 5DA \nPhone: 02086715587\nEmail: community7@cefi.org.uk
URL:https://first5lambeth.org/event/family-dance-sessions/2026-01-08/
LOCATION:CEFLynx\, Greenhut at Brixton Windmill Gardens\, Blenheim Gardens\,\, Brixton Hill\, SW2 5DA
ORGANIZER;CN="Community Education Foundation & Lyncx (CEF Lyncx)":MAILTO:community7@cefi.org.uk
END:VEVENT
BEGIN:VEVENT
DTSTART;TZID=Europe/London:20260108T110000
DTEND;TZID=Europe/London:20260108T150000
DTSTAMP:20260424T130745
CREATED:20240411T140200Z
LAST-MODIFIED:20240902T152617Z
UID:10002768-1767870000-1767884400@first5lambeth.org
SUMMARY:Moorlands Pantry
DESCRIPTION:A pantry is a community shop offering members a weekly choice of healthy food. Each visit you pay just £2.50 or £5 and choose the items you want. Food offered is a mix of fresh fruit and veg along with other food and cupboard staples. \nNo need to book\, just drop in on the day.
URL:https://first5lambeth.org/event/moorlands-pantry/2026-01-08/
LOCATION:Moorlands Community Centre\, 50a Corry Drive\, SW9 8QT
END:VEVENT
BEGIN:VEVENT
DTSTART;TZID=Europe/London:20260110T100000
DTEND;TZID=Europe/London:20260110T120000
DTSTAMP:20260424T130745
CREATED:20250116T211150Z
LAST-MODIFIED:20250718T084210Z
UID:10001721-1768039200-1768046400@first5lambeth.org
SUMMARY:Fathers and Influential Males. Under 5s Stay & Play
DESCRIPTION:Opportunity to meet other local Dad’s and share fatherhood experiences. Have fun learning through play and find out what’s happening locally. \nThis session is exclusive to Dad’s and influential males  and their little ones up to 5 years old. \nThis session is very popular and gets busy so first come\, first served! \nMeet at Brockwell park children’s centre (green hut next to the playground). \nNo need to book\, just drop in on the day.
URL:https://first5lambeth.org/event/fathers-and-influential-males-faim-under-5s-stay-play-term-time-only-2/2026-01-10/
LOCATION:Brockwell Park Playground\, SW2 2DB
END:VEVENT
BEGIN:VEVENT
DTSTART;TZID=Europe/London:20260112T133000
DTEND;TZID=Europe/London:20260112T150000
DTSTAMP:20260424T130745
CREATED:20250905T220011Z
LAST-MODIFIED:20251016T205320Z
UID:10004079-1768224600-1768230000@first5lambeth.org
SUMMARY:Whippersnappers and Liz Atkinson Stay & Play Sessions
DESCRIPTION:Whippersnappers and Liz Atkinson\nStay & play sessions\nSessions are FREE and include sensory music\, drumming and stories\, messy play\, parachute games and lots of fun! \nMeet other parents and carers with children with SEND and access SEND information and support from our Whippesnappers Family Support Worker. \nMondays 1:30pm-3:00pm at The Liz Atkinson Children Centre\n9 Mostyn Rd\nSW9 6PH\nTerm time only \nWho can join the club?\nDo you have a pre-school child with additional needs?\nDo you sometimes wonder if your child might have additional needs? \nIf yes\, come and join us! \nThese sessions are funded by the Walcot Foundation.
URL:https://first5lambeth.org/event/whippersnappers-send-stay-and-play-sessions-2/2026-01-12/
LOCATION:Liz Atkinson Children’s Centre\, 9 Mostyn Road\, SW9 6PH
ORGANIZER;CN="Whippersnappers":MAILTO:info@whippersnappers.org
END:VEVENT
BEGIN:VEVENT
DTSTART;TZID=Europe/London:20260113T093000
DTEND;TZID=Europe/London:20260113T093000
DTSTAMP:20260424T130745
CREATED:20250905T161451Z
LAST-MODIFIED:20250905T164026Z
UID:10006943-1768296600-1768296600@first5lambeth.org
SUMMARY:Childminders link-up play session (morning)
DESCRIPTION:Offering a safe space and opportunity for child minders and children to come and access not only our diverse range of child development resources but to network\, share good practice ideas and connecting children with the wider community of children in their care. \nThis session runs twice on Tuesdays:\nMorning: 9.30am – 11am\nAfternoon: 1pm – 3pm \nProvided by CEFLynx\nIn the Greenhut at Brixton Windmill Gardens\nBlenheim Gardens\, Brixton Hill\nSW2 5DA \nPhone: 02086715587 \nEmail: community7@cefi.org.uk
URL:https://first5lambeth.org/event/childminders-link-up-play-session/2026-01-13/
LOCATION:CEFLynx\, Greenhut at Brixton Windmill Gardens\, Blenheim Gardens\,\, Brixton Hill\, SW2 5DA
ORGANIZER;CN="Community Education Foundation & Lyncx (CEF Lyncx)":MAILTO:community7@cefi.org.uk
END:VEVENT
BEGIN:VEVENT
DTSTART;TZID=Europe/London:20260113T100000
DTEND;TZID=Europe/London:20260113T130000
DTSTAMP:20260424T130745
CREATED:20240411T122632Z
LAST-MODIFIED:20260313T155827Z
UID:10001983-1768298400-1768309200@first5lambeth.org
SUMMARY:Myatt’s Field Pantry
DESCRIPTION:A pantry is a community shop offering members a weekly choice of healthy food. Each visit you pay just £2.50 or £5 and choose the items you want. Food offered is a mix of fresh fruit and veg along with other food and cupboard staples. \nNo need to book\, just drop in on the day.
URL:https://first5lambeth.org/event/myatts-field-pantry/2026-01-13/
LOCATION:Myatt’s Field Centre\, 24 Crawshay Road\, SW9 6FZ
END:VEVENT
BEGIN:VEVENT
DTSTART;TZID=Europe/London:20260113T120000
DTEND;TZID=Europe/London:20260113T140000
DTSTAMP:20260424T130745
CREATED:20240411T135545Z
LAST-MODIFIED:20240902T152831Z
UID:10002245-1768305600-1768312800@first5lambeth.org
SUMMARY:Jubilee Hall Pantry
DESCRIPTION:A pantry is a community shop offering members a weekly choice of healthy food. Each visit you pay just £2.50 or £5 and choose the items you want. Food offered is a mix of fresh fruit and veg along with other food and cupboard staples. \nNo need to book\, just drop in on the day.
URL:https://first5lambeth.org/event/jubilee-hall-pantry/2026-01-13/
LOCATION:Jubilee Hall\, Tulse Hill\, SW2 2LY
END:VEVENT
BEGIN:VEVENT
DTSTART;TZID=Europe/London:20260113T130000
DTEND;TZID=Europe/London:20260113T143000
DTSTAMP:20260424T130745
CREATED:20250905T173503Z
LAST-MODIFIED:20250905T222052Z
UID:10009710-1768309200-1768314600@first5lambeth.org
SUMMARY:SENsations Stay & Play
DESCRIPTION:SEND (Special Educational Needs and Disabilities) stay and play sessions are held to provide children with special needs and their families with a safe\, supportive\, and stimulating environment for play and socialisation. These sessions encourage the development of play\, communication\, and interaction skills\, offer access to sensory play\, and help families connect with others in similar situations and with local support services. The groups also give parents practical advice\, support\, and information to help them in their child’s development journey. \nEvery Tuesdays 1pm – 2.30pm \nHenry Fawcett Children’s Centre\nClayton Street\nSE11 5BZ \nPhone: 02070911282
URL:https://first5lambeth.org/event/sensations-stay-play/2026-01-13/
LOCATION:Henry Fawcett Children’s Centre\, Clayton Street\, Kennington\, SE11 5BZ
END:VEVENT
BEGIN:VEVENT
DTSTART;TZID=Europe/London:20260113T130000
DTEND;TZID=Europe/London:20260113T150000
DTSTAMP:20260424T130745
CREATED:20250905T172813Z
LAST-MODIFIED:20250905T221605Z
UID:10009449-1768309200-1768316400@first5lambeth.org
SUMMARY:SEND Stay & Play
DESCRIPTION:SEND (Special Educational Needs and Disabilities) stay and play sessions are held to provide children with special needs and their families with a safe\, supportive\, and stimulating environment for play and socialisation. These sessions encourage the development of play\, communication\, and interaction skills\, offer access to sensory play\, and help families connect with others in similar situations and with local support services. The groups also give parents practical advice\, support\, and information to help them in their child’s development journey. \nTuesdays 1pm – 3pm \nBenton’s Lane Children’s Centre\n18 Bentons Lane\nNorwood\nSE27 9UD \nPhone: 02045423520 \n 
URL:https://first5lambeth.org/event/send-stay-play/2026-01-13/
LOCATION:Benton’s Lane Childrens Centre\, 18 Benton's Lane\, Norwood\, SE27 9UD
END:VEVENT
BEGIN:VEVENT
DTSTART;TZID=Europe/London:20260114T090000
DTEND;TZID=Europe/London:20260114T100000
DTSTAMP:20260424T130745
CREATED:20240411T102730Z
LAST-MODIFIED:20240902T152753Z
UID:10000394-1768381200-1768384800@first5lambeth.org
SUMMARY:Little Sunflowers
DESCRIPTION:For families with children aged 0-3 with: free play\, craft activities\, light refreshments and guest speakers every fortnight during term time. \n-Meet other local parents and careers\, and share experiences\n– Play and learn in a safe and stimulating environment\n– Get ready to start nursery school \nNo need to book\, just drop in on the day.
URL:https://first5lambeth.org/event/little-sunflowers/2026-01-14/
LOCATION:Allen Edwards Primary School\, Allen Edwards Primary School\, Studley Road\, Stockwell\, SW4 6RP
END:VEVENT
BEGIN:VEVENT
DTSTART;TZID=Europe/London:20260115T103000
DTEND;TZID=Europe/London:20260115T113000
DTSTAMP:20260424T130745
CREATED:20240411T103654Z
LAST-MODIFIED:20250905T175343Z
UID:10000656-1768473000-1768476600@first5lambeth.org
SUMMARY:Family Dance Sessions (Term time only)
DESCRIPTION:Join us for a fun and engaging dance.\nDance is a fantastic way to enhance a child’s physical development by encouraging the use of motor skills\, balance\, coordination\, and muscle strength. The repetitive movements and patterns in dance also help children gain control over their bodies and improve their spatial awareness. \nDancing can also encourage healthy bonding and communication between child and parent\, it is also a fun way for the parent to get active and physical in a more joyful environment. \nTaking place every Thursday at 10.30am – 11.30am \nCEFLynx Greenhut Brixton Windmill Gardens\nBlenheim Gardens\nBrixton Hill\nSW2 5DA \nPhone: 02086715587\nEmail: community7@cefi.org.uk
URL:https://first5lambeth.org/event/family-dance-sessions/2026-01-15/
LOCATION:CEFLynx\, Greenhut at Brixton Windmill Gardens\, Blenheim Gardens\,\, Brixton Hill\, SW2 5DA
ORGANIZER;CN="Community Education Foundation & Lyncx (CEF Lyncx)":MAILTO:community7@cefi.org.uk
END:VEVENT
BEGIN:VEVENT
DTSTART;TZID=Europe/London:20260115T110000
DTEND;TZID=Europe/London:20260115T150000
DTSTAMP:20260424T130745
CREATED:20240411T140200Z
LAST-MODIFIED:20240902T152617Z
UID:10002769-1768474800-1768489200@first5lambeth.org
SUMMARY:Moorlands Pantry
DESCRIPTION:A pantry is a community shop offering members a weekly choice of healthy food. Each visit you pay just £2.50 or £5 and choose the items you want. Food offered is a mix of fresh fruit and veg along with other food and cupboard staples. \nNo need to book\, just drop in on the day.
URL:https://first5lambeth.org/event/moorlands-pantry/2026-01-15/
LOCATION:Moorlands Community Centre\, 50a Corry Drive\, SW9 8QT
END:VEVENT
BEGIN:VEVENT
DTSTART;TZID=Europe/London:20260117T100000
DTEND;TZID=Europe/London:20260117T120000
DTSTAMP:20260424T130745
CREATED:20250116T211150Z
LAST-MODIFIED:20250718T084210Z
UID:10001722-1768644000-1768651200@first5lambeth.org
SUMMARY:Fathers and Influential Males. Under 5s Stay & Play
DESCRIPTION:Opportunity to meet other local Dad’s and share fatherhood experiences. Have fun learning through play and find out what’s happening locally. \nThis session is exclusive to Dad’s and influential males  and their little ones up to 5 years old. \nThis session is very popular and gets busy so first come\, first served! \nMeet at Brockwell park children’s centre (green hut next to the playground). \nNo need to book\, just drop in on the day.
URL:https://first5lambeth.org/event/fathers-and-influential-males-faim-under-5s-stay-play-term-time-only-2/2026-01-17/
LOCATION:Brockwell Park Playground\, SW2 2DB
END:VEVENT
BEGIN:VEVENT
DTSTART;TZID=Europe/London:20260119T133000
DTEND;TZID=Europe/London:20260119T150000
DTSTAMP:20260424T130745
CREATED:20250905T220011Z
LAST-MODIFIED:20251016T205320Z
UID:10004080-1768829400-1768834800@first5lambeth.org
SUMMARY:Whippersnappers and Liz Atkinson Stay & Play Sessions
DESCRIPTION:Whippersnappers and Liz Atkinson\nStay & play sessions\nSessions are FREE and include sensory music\, drumming and stories\, messy play\, parachute games and lots of fun! \nMeet other parents and carers with children with SEND and access SEND information and support from our Whippesnappers Family Support Worker. \nMondays 1:30pm-3:00pm at The Liz Atkinson Children Centre\n9 Mostyn Rd\nSW9 6PH\nTerm time only \nWho can join the club?\nDo you have a pre-school child with additional needs?\nDo you sometimes wonder if your child might have additional needs? \nIf yes\, come and join us! \nThese sessions are funded by the Walcot Foundation.
URL:https://first5lambeth.org/event/whippersnappers-send-stay-and-play-sessions-2/2026-01-19/
LOCATION:Liz Atkinson Children’s Centre\, 9 Mostyn Road\, SW9 6PH
ORGANIZER;CN="Whippersnappers":MAILTO:info@whippersnappers.org
END:VEVENT
BEGIN:VEVENT
DTSTART;TZID=Europe/London:20260120T093000
DTEND;TZID=Europe/London:20260120T093000
DTSTAMP:20260424T130745
CREATED:20250905T161451Z
LAST-MODIFIED:20250905T164026Z
UID:10006944-1768901400-1768901400@first5lambeth.org
SUMMARY:Childminders link-up play session (morning)
DESCRIPTION:Offering a safe space and opportunity for child minders and children to come and access not only our diverse range of child development resources but to network\, share good practice ideas and connecting children with the wider community of children in their care. \nThis session runs twice on Tuesdays:\nMorning: 9.30am – 11am\nAfternoon: 1pm – 3pm \nProvided by CEFLynx\nIn the Greenhut at Brixton Windmill Gardens\nBlenheim Gardens\, Brixton Hill\nSW2 5DA \nPhone: 02086715587 \nEmail: community7@cefi.org.uk
URL:https://first5lambeth.org/event/childminders-link-up-play-session/2026-01-20/
LOCATION:CEFLynx\, Greenhut at Brixton Windmill Gardens\, Blenheim Gardens\,\, Brixton Hill\, SW2 5DA
ORGANIZER;CN="Community Education Foundation & Lyncx (CEF Lyncx)":MAILTO:community7@cefi.org.uk
END:VEVENT
BEGIN:VEVENT
DTSTART;TZID=Europe/London:20260120T100000
DTEND;TZID=Europe/London:20260120T130000
DTSTAMP:20260424T130745
CREATED:20240411T122632Z
LAST-MODIFIED:20260313T155827Z
UID:10001984-1768903200-1768914000@first5lambeth.org
SUMMARY:Myatt’s Field Pantry
DESCRIPTION:A pantry is a community shop offering members a weekly choice of healthy food. Each visit you pay just £2.50 or £5 and choose the items you want. Food offered is a mix of fresh fruit and veg along with other food and cupboard staples. \nNo need to book\, just drop in on the day.
URL:https://first5lambeth.org/event/myatts-field-pantry/2026-01-20/
LOCATION:Myatt’s Field Centre\, 24 Crawshay Road\, SW9 6FZ
END:VEVENT
BEGIN:VEVENT
DTSTART;TZID=Europe/London:20260120T120000
DTEND;TZID=Europe/London:20260120T140000
DTSTAMP:20260424T130745
CREATED:20240411T135545Z
LAST-MODIFIED:20240902T152831Z
UID:10002246-1768910400-1768917600@first5lambeth.org
SUMMARY:Jubilee Hall Pantry
DESCRIPTION:A pantry is a community shop offering members a weekly choice of healthy food. Each visit you pay just £2.50 or £5 and choose the items you want. Food offered is a mix of fresh fruit and veg along with other food and cupboard staples. \nNo need to book\, just drop in on the day.
URL:https://first5lambeth.org/event/jubilee-hall-pantry/2026-01-20/
LOCATION:Jubilee Hall\, Tulse Hill\, SW2 2LY
END:VEVENT
BEGIN:VEVENT
DTSTART;TZID=Europe/London:20260120T130000
DTEND;TZID=Europe/London:20260120T143000
DTSTAMP:20260424T130745
CREATED:20250905T173503Z
LAST-MODIFIED:20250905T222052Z
UID:10009711-1768914000-1768919400@first5lambeth.org
SUMMARY:SENsations Stay & Play
DESCRIPTION:SEND (Special Educational Needs and Disabilities) stay and play sessions are held to provide children with special needs and their families with a safe\, supportive\, and stimulating environment for play and socialisation. These sessions encourage the development of play\, communication\, and interaction skills\, offer access to sensory play\, and help families connect with others in similar situations and with local support services. The groups also give parents practical advice\, support\, and information to help them in their child’s development journey. \nEvery Tuesdays 1pm – 2.30pm \nHenry Fawcett Children’s Centre\nClayton Street\nSE11 5BZ \nPhone: 02070911282
URL:https://first5lambeth.org/event/sensations-stay-play/2026-01-20/
LOCATION:Henry Fawcett Children’s Centre\, Clayton Street\, Kennington\, SE11 5BZ
END:VEVENT
BEGIN:VEVENT
DTSTART;TZID=Europe/London:20260120T130000
DTEND;TZID=Europe/London:20260120T150000
DTSTAMP:20260424T130745
CREATED:20250905T172813Z
LAST-MODIFIED:20250905T221605Z
UID:10009450-1768914000-1768921200@first5lambeth.org
SUMMARY:SEND Stay & Play
DESCRIPTION:SEND (Special Educational Needs and Disabilities) stay and play sessions are held to provide children with special needs and their families with a safe\, supportive\, and stimulating environment for play and socialisation. These sessions encourage the development of play\, communication\, and interaction skills\, offer access to sensory play\, and help families connect with others in similar situations and with local support services. The groups also give parents practical advice\, support\, and information to help them in their child’s development journey. \nTuesdays 1pm – 3pm \nBenton’s Lane Children’s Centre\n18 Bentons Lane\nNorwood\nSE27 9UD \nPhone: 02045423520 \n 
URL:https://first5lambeth.org/event/send-stay-play/2026-01-20/
LOCATION:Benton’s Lane Childrens Centre\, 18 Benton's Lane\, Norwood\, SE27 9UD
END:VEVENT
BEGIN:VEVENT
DTSTART;TZID=Europe/London:20260121T090000
DTEND;TZID=Europe/London:20260121T100000
DTSTAMP:20260424T130745
CREATED:20240411T102730Z
LAST-MODIFIED:20240902T152753Z
UID:10000395-1768986000-1768989600@first5lambeth.org
SUMMARY:Little Sunflowers
DESCRIPTION:For families with children aged 0-3 with: free play\, craft activities\, light refreshments and guest speakers every fortnight during term time. \n-Meet other local parents and careers\, and share experiences\n– Play and learn in a safe and stimulating environment\n– Get ready to start nursery school \nNo need to book\, just drop in on the day.
URL:https://first5lambeth.org/event/little-sunflowers/2026-01-21/
LOCATION:Allen Edwards Primary School\, Allen Edwards Primary School\, Studley Road\, Stockwell\, SW4 6RP
END:VEVENT
END:VCALENDAR